{"text_format":"1","workbook":"xlsx","n_sheets":4,"sheets":["INGRESO DE DATOS","Essential Care","Resumen tarifas anuales","Tablas"],"not_rendered":{"charts":0,"images":4,"macros":1,"external_links":0,"defined_names":2,"comments":1,"pivot_tables":0},"unopened":[],"bounds":{"document_bytes":16777216,"sheet_cells":100000,"rows_first":2000,"rows_last":500,"rows_between":2000,"halvings":0,"cell_chars":16384,"cell_head_chars":4096},"cells_cut":0,"cells_raw":0,"read":"whole","date_system":"1900"}

{"sheet":"INGRESO DE DATOS","index":0,"n_rows":29,"n_cols":12,"rows_kept":29,"cut":false,"hidden":false,"merged":[[7,0,7,9],[24,3,24,9],[17,7,17,8],[13,3,13,9],[15,3,15,5],[15,7,15,8],[8,0,8,9]]}
[]
[]
[]
[]
[]
[]
[]
[]
[]
[null,null,null,null,null,null,null,null,null,null," "]
[]
["INGRESE LOS DATOS DEL PROPUESTO ASEGURADO:"]
[]
[null,null,"Nombre del Asegurado Principal:","Nombre"]
[null,null,null,null,null,null,null,null,null,null," "," "]
[null,null,null,"Número de Adultos:",null,null,1,"Número de Hijos:",null,0]
[]
[null,null,null,null,null," Edad de Titular:",40,"Edad de Cónyuge:",null,46]
[]
[null,null,null,null,null,"Descuento:",0]
[]
[]
["INGRESE EL NOMBRE DE LA AGENCIA ASESORA:"]
[]
[null,null,"Intermediario:","Agente / Agencia"]
[]
[]
[]
["ESCOJA EL PRODUCTO PARA VISUALIZAR LA COTIZACION RESPECTIVA:"]

{"sheet":"Essential Care","index":1,"n_rows":83,"n_cols":11,"rows_kept":83,"cut":false,"hidden":false,"merged":[[70,0,70,1],[71,0,71,1],[30,0,30,1],[30,3,30,9],[43,3,43,9],[55,0,55,1],[36,0,36,1],[41,0,41,1],[10,0,10,1],[16,0,16,1],[22,0,22,1],[9,0,9,1],[69,0,69,1],[8,3,8,9],[7,3,7,9],[80,3,80,9],[81,3,81,9],[82,3,82,9],[10,4,10,9],[12,4,12,9],[76,3,78,9],[59,3,59,9],[75,3,75,9],[25,3,25,9]]}
[]
[]
[]
[]
[]
[]
[]
[null,null,null,"Cotización de Seguro Médico Internacional"]
[null,null,null,"BUPA Essential Care"]
["Bupa Essential Care",null,null,null,null,null,null," "," "," "," "]
[null,null,null,"Nombre del Asegurado:",{"$f":"+'INGRESO DE DATOS'!$D$14","v":"Nombre"}]
[]
[null,null,null,"Intermediario:",{"$f":"+'INGRESO DE DATOS'!$D$25","v":"Agente / Agencia"}]
[]
[null,null,null,"Fecha:",{"$f":"+TODAY()","v":"2023-07-25"},null,{"$f":"IF('INGRESO DE DATOS'!G20>0,\"Descuento\",\"\")","v":""},{"$f":"IF('INGRESO DE DATOS'!G20>0,'INGRESO DE DATOS'!G20,\"\")","v":""}]
[]
[null,null,null,null,null,"Numero de Adultos:",{"$f":"+'INGRESO DE DATOS'!$G$16","v":1},null,"Edad de Titular:",{"$f":"+'INGRESO DE DATOS'!$G$18","v":40}]
[]
[null,null,null,null,null,"Numero de Hijos:",{"$f":"+'INGRESO DE DATOS'!$J$16","v":0},null,"Edad de Conyuge:",{"$f":"+'INGRESO DE DATOS'!$J$18","v":46}]
[null,null,null,null,null,null," "," "," "]
[null,null,null,null,null,null,null,"Complicaciones de Maternidad (planes 1, 2, y 3)"]
[null,null,null,null,null,true]
[null,null,null,null,null,true,null,"Trasplante de Órganos"]
[null,null,null,null,null,false]
[null,null,null," ",null,null,null,"Eliminación de Deducible"]
[null,null,null,"Deducibles"]
[null,null,null,null,"PLAN 1","PLAN 2","PLAN 3","PLAN 4","PLAN 5","PLAN 6"]
[null,null,null,"Dentro del pais de residencia",250,250,1000,5000,10000,20000]
[null,null,null,"Fuera del pais de residencia",1000,5000,10000,5000,10000,20000]
[]
[null,null,null,"Tarifas Anuales"]
[null,null,null,"Prima Titular",{"$f":"VLOOKUP($J$17,Tablas!$A$274:$H$336,3,TRUE)","v":1769.76},{"$f":"VLOOKUP($J$17,Tablas!$A$274:$H$336,4,TRUE)","v":1701.36},{"$f":"VLOOKUP($J$17,Tablas!$A$274:$H$336,5,TRUE)","v":1578.24},{"$f":"VLOOKUP($J$17,Tablas!$A$274:$H$336,6,TRUE)","v":1116.72},{"$f":"VLOOKUP($J$17,Tablas!$A$274:$H$336,7,TRUE)","v":802.8},{"$f":"VLOOKUP($J$17,Tablas!$A$274:$H$336,8,TRUE)","v":565.91999999999996}]
[null,null,null,"Prima Cónyuge",{"$f":"IF($G$17=1,0,(VLOOKUP($J$19,Tablas!$A$274:$H$336,3,TRUE)))","v":0},{"$f":"IF($G$17=1,0,(VLOOKUP($J$19,Tablas!$A$274:$H$336,4,TRUE)))","v":0},{"$f":"IF($G$17=1,0,(VLOOKUP($J$19,Tablas!$A$274:$H$336,5,TRUE)))","v":0},{"$f":"IF($G$17=1,0,(VLOOKUP($J$19,Tablas!$A$274:$H$336,6,TRUE)))","v":0},{"$f":"IF($G$17=1,0,(VLOOKUP($J$19,Tablas!$A$274:$H$336,7,TRUE)))","v":0},{"$f":"IF($G$17=1,0,(VLOOKUP($J$19,Tablas!$A$274:$H$336,8,TRUE)))","v":0}]
[null,null,null,"Primas Hijos",{"$f":"IF($G$19=0,0,(VLOOKUP($G$19,Tablas!$A$337:$H$339,3,TRUE)))","v":0},{"$f":"IF($G$19=0,0,(VLOOKUP($G$19,Tablas!$A$337:$H$339,4,TRUE)))","v":0},{"$f":"IF($G$19=0,0,(VLOOKUP($G$19,Tablas!$A$337:$H$339,5,TRUE)))","v":0},{"$f":"IF($G$19=0,0,(VLOOKUP($G$19,Tablas!$A$337:$H$339,6,TRUE)))","v":0},{"$f":"IF($G$19=0,0,(VLOOKUP($G$19,Tablas!$A$337:$H$339,7,TRUE)))","v":0},{"$f":"IF($G$19=0,0,(VLOOKUP($G$19,Tablas!$A$337:$H$339,8,TRUE)))","v":0}]
[null,null,null,"Anexo: Complicaciones de Maternidad",{"$f":"+IF($F$22=FALSE,0,Tablas!C$340)","v":225},{"$f":"+IF($F$22=FALSE,0,Tablas!D$340)","v":225},{"$f":"+IF($F$22=FALSE,0,Tablas!E$340)","v":225},{"$f":"+IF($F$22=FALSE,0,Tablas!F$340)","v":0},{"$f":"+IF($F$22=FALSE,0,Tablas!G$340)","v":0},{"$f":"+IF($F$22=FALSE,0,Tablas!H$340)","v":0}]
[null,null,null,"Anexo: Trasplante Organos",{"$f":"IF($F$23=FALSE,0,Tablas!C$341)","v":300},{"$f":"IF($F$23=FALSE,0,Tablas!D$341)","v":300},{"$f":"IF($F$23=FALSE,0,Tablas!E$341)","v":300},{"$f":"IF($F$23=FALSE,0,Tablas!F$341)","v":300},{"$f":"IF($F$23=FALSE,0,Tablas!G$341)","v":300},{"$f":"IF($F$23=FALSE,0,Tablas!H$341)","v":300}]
[null,null,null,"Anexo: Eliminacion de Deducible",{"$f":"IF($F$24=FALSE,0,Tablas!C$342)","v":0},{"$f":"IF($F$24=FALSE,0,Tablas!D$342)","v":0},{"$f":"IF($F$24=FALSE,0,Tablas!E$342)","v":0},{"$f":"IF($F$24=FALSE,0,Tablas!F$342)","v":0},{"$f":"IF($F$24=FALSE,0,Tablas!G$342)","v":0},{"$f":"IF($F$24=FALSE,0,Tablas!H$342)","v":0}]
[null,null,null,"PRIMA NETA",{"$f":"SUM(E32:E37)","v":2294.7600000000002},2226.3599999999997,2103.2399999999998,1416.72,1102.8,865.92]
[null,null,null,{"$f":"IF('INGRESO DE DATOS'!G20>0,\"Descuento\",\"\")","v":""},{"$f":"IF('INGRESO DE DATOS'!$G$20>0,-(E32+E33+E34)*'INGRESO DE DATOS'!$G$20,0)","v":0},{"$f":"IF('INGRESO DE DATOS'!$G$20>0,-(F32+F33+F34)*'INGRESO DE DATOS'!$G$20,0)","v":0},{"$f":"IF('INGRESO DE DATOS'!$G$20>0,-(G32+G33+G34)*'INGRESO DE DATOS'!$G$20,0)","v":0},{"$f":"IF('INGRESO DE DATOS'!$G$20>0,-(H32+H33+H34)*'INGRESO DE DATOS'!$G$20,0)","v":0},{"$f":"IF('INGRESO DE DATOS'!$G$20>0,-(I32+I33+I34)*'INGRESO DE DATOS'!$G$20,0)","v":0},{"$f":"IF('INGRESO DE DATOS'!$G$20>0,-(J32+J33+J34)*'INGRESO DE DATOS'!$G$20,0)","v":0}]
[null,null,null,"Costo Administrativo Anual",75,75,75,75,75,75]
[null,null,null,"IVA (12%)",{"$f":"+(E38+E39+E40)*12%","v":284.37119999999999},{"$f":"+(F38+F39+F40)*12%","v":276.16319999999996},{"$f":"+(G38+G39+G40)*12%","v":261.38879999999995},179.00639999999999,141.33599999999998,{"$f":"+(J38+J39+J40)*12%","v":112.9104}]
[null,null,null,"TOTAL",{"$f":"SUM(E38:E41)","v":2654.1312000000003},2577.5231999999996,2439.6287999999995,1670.7264,1319.136,1053.8304000000001]
[]
[null,null,null,"Tarifas Semestrales"]
[null,null,null,"Prima Titular",{"$f":"VLOOKUP($J$17,Tablas!$A$346:$H$408,3,TRUE)","v":937.97280000000001},{"$f":"VLOOKUP($J$17,Tablas!$A$346:$H$408,4,TRUE)","v":901.72079999999994},{"$f":"VLOOKUP($J$17,Tablas!$A$346:$H$408,5,TRUE)","v":836.46720000000005},{"$f":"VLOOKUP($J$17,Tablas!$A$346:$H$408,6,TRUE)","v":591.86160000000007},{"$f":"VLOOKUP($J$17,Tablas!$A$346:$H$408,7,TRUE)","v":425.48399999999998},{"$f":"VLOOKUP($J$17,Tablas!$A$346:$H$408,8,TRUE)","v":299.93759999999997}]
[null,null,null,"Prima Cónyuge",{"$f":"IF($G$17=1,0,(VLOOKUP($J$19,Tablas!$A$346:$H$408,3,TRUE)))","v":0},{"$f":"IF($G$17=1,0,(VLOOKUP($J$19,Tablas!$A$346:$H$408,4,TRUE)))","v":0},{"$f":"IF($G$17=1,0,(VLOOKUP($J$19,Tablas!$A$346:$H$408,5,TRUE)))","v":0},{"$f":"IF($G$17=1,0,(VLOOKUP($J$19,Tablas!$A$346:$H$408,6,TRUE)))","v":0},{"$f":"IF($G$17=1,0,(VLOOKUP($J$19,Tablas!$A$346:$H$408,7,TRUE)))","v":0},{"$f":"IF($G$17=1,0,(VLOOKUP($J$19,Tablas!$A$346:$H$408,8,TRUE)))","v":0}]
[null,null,null,"Primas Hijos",{"$f":"IF($G$19=0,0,(VLOOKUP($G$19,Tablas!$A$409:$H$411,3,TRUE)))","v":0},{"$f":"IF($G$19=0,0,(VLOOKUP($G$19,Tablas!$A$409:$H$411,4,TRUE)))","v":0},{"$f":"IF($G$19=0,0,(VLOOKUP($G$19,Tablas!$A$409:$H$411,5,TRUE)))","v":0},{"$f":"IF($G$19=0,0,(VLOOKUP($G$19,Tablas!$A$409:$H$411,6,TRUE)))","v":0},{"$f":"IF($G$19=0,0,(VLOOKUP($G$19,Tablas!$A$409:$H$411,7,TRUE)))","v":0},{"$f":"IF($G$19=0,0,(VLOOKUP($G$19,Tablas!$A$409:$H$411,8,TRUE)))","v":0}]
[null,null,null,"Anexo: Complicaciones de Maternidad",{"$f":"+IF($F$22=FALSE,0,Tablas!C$412)","v":119.25},{"$f":"+IF($F$22=FALSE,0,Tablas!D$412)","v":119.25},{"$f":"+IF($F$22=FALSE,0,Tablas!E$412)","v":119.25},{"$f":"+IF($F$22=FALSE,0,Tablas!F$412)","v":0},{"$f":"+IF($F$22=FALSE,0,Tablas!G$412)","v":0},{"$f":"+IF($F$22=FALSE,0,Tablas!H$412)","v":0}]
[null,null,null,"Anexo: Trasplante Organos",{"$f":"IF($F$23=FALSE,0,Tablas!C$413)","v":159},{"$f":"IF($F$23=FALSE,0,Tablas!D$413)","v":159},{"$f":"IF($F$23=FALSE,0,Tablas!E$413)","v":159},{"$f":"IF($F$23=FALSE,0,Tablas!F$413)","v":159},{"$f":"IF($F$23=FALSE,0,Tablas!G$413)","v":159},{"$f":"IF($F$23=FALSE,0,Tablas!H$413)","v":159}]
[null,null,null,"Anexo: Eliminacion de Deducible",{"$f":"IF($F$24=FALSE,0,Tablas!C$414)","v":0},{"$f":"IF($F$24=FALSE,0,Tablas!D$414)","v":0},{"$f":"IF($F$24=FALSE,0,Tablas!E$414)","v":0},{"$f":"IF($F$24=FALSE,0,Tablas!F$414)","v":0},{"$f":"IF($F$24=FALSE,0,Tablas!G$414)","v":0},{"$f":"IF($F$24=FALSE,0,Tablas!H$414)","v":0}]
[null,null,null,"PRIMA NETA",{"$f":"SUM(E45:E50)","v":1216.2228},{"$f":"SUM(F45:F50)","v":1179.9708000000001},{"$f":"SUM(G45:G50)","v":1114.7172},750.86160000000007,584.48399999999992,458.93759999999997]
[null,null,null,{"$f":"IF('INGRESO DE DATOS'!G20>0,\"Descuento\",\"\")","v":""},{"$f":"IF('INGRESO DE DATOS'!$G$20>0,-(E45+E46+E47)*'INGRESO DE DATOS'!$G$20,0)","v":0},{"$f":"IF('INGRESO DE DATOS'!$G$20>0,-(F45+F46+F47)*'INGRESO DE DATOS'!$G$20,0)","v":0},{"$f":"IF('INGRESO DE DATOS'!$G$20>0,-(G45+G46+G47)*'INGRESO DE DATOS'!$G$20,0)","v":0},{"$f":"IF('INGRESO DE DATOS'!$G$20>0,-(H45+H46+H47)*'INGRESO DE DATOS'!$G$20,0)","v":0},{"$f":"IF('INGRESO DE DATOS'!$G$20>0,-(I45+I46+I47)*'INGRESO DE DATOS'!$G$20,0)","v":0},{"$f":"IF('INGRESO DE DATOS'!$G$20>0,-(J45+J46+J47)*'INGRESO DE DATOS'!$G$20,0)","v":0}]
[null,null,null,"Costo Administrativo Anual",75,75,75,75,75,75]
[null,null,null,"IVA (12%)",{"$f":"+(E51+E52+E53)*12%","v":154.94673599999999},{"$f":"+(F51+F52+F53)*12%","v":150.596496},{"$f":"+(G51+G52+G53)*12%","v":142.766064},{"$f":"+(H51+H52+H53)*12%","v":99.103391999999999},{"$f":"+(I51+I52+I53)*12%","v":79.138079999999988},{"$f":"+(J51+J52+J53)*12%","v":64.072511999999989}]
[null,null,null,"(1ra Cuota)",{"$f":"SUM(E51:E54)","v":1446.1695359999999},1405.5672960000002,1332.483264,924.96499200000005,738.62207999999987,598.01011199999994]
[null,null,null,"(2da Cuota)",{"$f":"E51+E52+E54-(E53*0.12)","v":1362.1695359999999},{"$f":"F51+F52+F54-(F53*0.12)","v":1321.5672960000002},{"$f":"G51+G52+G54-(G53*0.12)","v":1248.483264},840.96499200000005,654.62207999999987,514.01011199999994]
[null,null,null,"TOTAL",{"$f":"SUM(E55:E56)","v":2808.3390719999998},{"$f":"SUM(F55:F56)","v":2727.1345920000003},2580.9665279999999,1765.9299840000001,1393.2441599999997,1112.0202239999999]
[]
[]
[null,null,null,"Tarifas Trimestrales"]
[null,null,null,"Prima Titular",{"$f":"VLOOKUP($J$17,Tablas!$A$991:$H$1053,3,TRUE)","v":486.68400000000003},{"$f":"VLOOKUP($J$17,Tablas!$A$991:$H$1053,4,TRUE)","v":467.87400000000002},{"$f":"VLOOKUP($J$17,Tablas!$A$991:$H$1053,5,TRUE)","v":434.01600000000002},{"$f":"VLOOKUP($J$17,Tablas!$A$991:$H$1053,6,TRUE)","v":307.09800000000001},{"$f":"VLOOKUP($J$17,Tablas!$A$991:$H$1053,7,TRUE)","v":220.77},{"$f":"VLOOKUP($J$17,Tablas!$A$991:$H$1053,8,TRUE)","v":155.62800000000001}]
[null,null,null,"Prima Cónyuge",{"$f":"IF($G$17=1,0,(VLOOKUP($J$19,Tablas!$A$991:$H$1053,3,TRUE)))","v":0},{"$f":"IF($G$17=1,0,(VLOOKUP($J$19,Tablas!$A$991:$H$1053,4,TRUE)))","v":0},{"$f":"IF($G$17=1,0,(VLOOKUP($J$19,Tablas!$A$991:$H$1053,5,TRUE)))","v":0},{"$f":"IF($G$17=1,0,(VLOOKUP($J$19,Tablas!$A$991:$H$1053,6,TRUE)))","v":0},{"$f":"IF($G$17=1,0,(VLOOKUP($J$19,Tablas!$A$991:$H$1053,7,TRUE)))","v":0},{"$f":"IF($G$17=1,0,(VLOOKUP($J$19,Tablas!$A$991:$H$1053,8,TRUE)))","v":0}]
[null,null,null,"Primas Hijos",{"$f":"IF($G$19=0,0,(VLOOKUP($G$19,Tablas!$A$1054:$H$1056,3,TRUE)))","v":0},{"$f":"IF($G$19=0,0,(VLOOKUP($G$19,Tablas!$A$1054:$H$1056,4,TRUE)))","v":0},{"$f":"IF($G$19=0,0,(VLOOKUP($G$19,Tablas!$A$1054:$H$1056,5,TRUE)))","v":0},{"$f":"IF($G$19=0,0,(VLOOKUP($G$19,Tablas!$A$1054:$H$1056,6,TRUE)))","v":0},{"$f":"IF($G$19=0,0,(VLOOKUP($G$19,Tablas!$A$1054:$H$1056,7,TRUE)))","v":0},{"$f":"IF($G$19=0,0,(VLOOKUP($G$19,Tablas!$A$1054:$H$1056,8,TRUE)))","v":0}]
[null,null,null,"Anexo: Complicaciones de Maternidad",{"$f":"+IF($F$22=FALSE,0,Tablas!C$1057)","v":61.875000000000007},{"$f":"+IF($F$22=FALSE,0,Tablas!D$1057)","v":61.875000000000007},{"$f":"+IF($F$22=FALSE,0,Tablas!E$1057)","v":61.875000000000007},{"$f":"+IF($F$22=FALSE,0,Tablas!F$1057)","v":0},{"$f":"+IF($F$22=FALSE,0,Tablas!G$1057)","v":0},{"$f":"+IF($F$22=FALSE,0,Tablas!H$1057)","v":0}]
[null,null,null,"Anexo: Trasplante Organos",{"$f":"IF($F$23=FALSE,0,Tablas!C$1058)","v":82.5},{"$f":"IF($F$23=FALSE,0,Tablas!D$1058)","v":82.5},{"$f":"IF($F$23=FALSE,0,Tablas!E$1058)","v":82.5},{"$f":"IF($F$23=FALSE,0,Tablas!F$1058)","v":82.5},{"$f":"IF($F$23=FALSE,0,Tablas!G$1058)","v":82.5},{"$f":"IF($F$23=FALSE,0,Tablas!H$1058)","v":82.5}]
[null,null,null,"Anexo: Eliminacion de Deducible",{"$f":"IF($F$24=FALSE,0,Tablas!C$1059)","v":0},{"$f":"IF($F$24=FALSE,0,Tablas!D$1059)","v":0},{"$f":"IF($F$24=FALSE,0,Tablas!E$1059)","v":0},{"$f":"IF($F$24=FALSE,0,Tablas!F$1059)","v":0},{"$f":"IF($F$24=FALSE,0,Tablas!G$1059)","v":0},{"$f":"IF($F$24=FALSE,0,Tablas!H$1059)","v":0}]
[null,null,null,"PRIMA NETA",{"$f":"SUM(E61:E66)","v":631.05900000000008},{"$f":"SUM(F61:F66)","v":612.24900000000002},{"$f":"SUM(G61:G66)","v":578.39100000000008},389.59800000000001,303.27,238.12800000000001]
[null,null,null,{"$f":"IF('INGRESO DE DATOS'!G36>0,\"Descuento\",\"\")","v":""},{"$f":"IF('INGRESO DE DATOS'!$G$20>0,-(E61+E62+E63)*'INGRESO DE DATOS'!$G$20,0)","v":0},{"$f":"IF('INGRESO DE DATOS'!$G$20>0,-(F61+F62+F63)*'INGRESO DE DATOS'!$G$20,0)","v":0},{"$f":"IF('INGRESO DE DATOS'!$G$20>0,-(G61+G62+G63)*'INGRESO DE DATOS'!$G$20,0)","v":0},{"$f":"IF('INGRESO DE DATOS'!$G$20>0,-(H61+H62+H63)*'INGRESO DE DATOS'!$G$20,0)","v":0},{"$f":"IF('INGRESO DE DATOS'!$G$20>0,-(I61+I62+I63)*'INGRESO DE DATOS'!$G$20,0)","v":0},{"$f":"IF('INGRESO DE DATOS'!$G$20>0,-(J61+J62+J63)*'INGRESO DE DATOS'!$G$20,0)","v":0}]
[null,null,null,"Costo Administrativo Anual",75,75,75,75,75,75]
[null,null,null,"IVA (12%)",{"$f":"+(E67+E68+E69)*12%","v":84.727080000000001},{"$f":"+(F67+F68+F69)*12%","v":82.469880000000003},{"$f":"+(G67+G68+G69)*12%","v":78.40692},55.751759999999997,45.392399999999995,{"$f":"+(J67+J68+J69)*12%","v":37.575360000000003}]
[null,null,null,"(1ra Cuota)",{"$f":"SUM(E67:E70)","v":790.78608000000008},769.71888000000001,731.79792000000009,520.34976000000006,423.66239999999999,350.70336000000003]
[null,null,null,"(2da a 4ta Cuota)",{"$f":"E67+E68+E70-(E69*0.12)","v":706.78608000000008},{"$f":"F67+F68+F70-(F69*0.12)","v":685.71888000000001},{"$f":"G67+G68+G70-(G69*0.12)","v":647.79792000000009},436.34976,339.66239999999999,266.70336000000003]
[null,null,null,"TOTAL",{"$f":"E71+E72*3","v":2911.1443200000003},{"$f":"F71+F72*3","v":2826.8755200000001},2675.1916800000004,1829.39904,1442.6496,1150.8134400000001]
[]
[]
[null,null,null,"Tarifas en US $ -   Efectivas partir del 1ro de enero de  2023"]
[null,null,null,"Este presupuesto solamente tiene carácter informativo y en ningún momento expresa compromiso legal para suministrarle cobertura de seguro. La emisión de una póliza de seguro Bupa está sujeta a todas las evaluaciones de riesgo por parte de Bupa y a la recepción de todos los pagos de prima requeridos."]
[]
[]
[]
[null,null,null,"Bupa Guatemala, Compañía de Seguros, S.A."]
[null,null,null,"5 Avenida 5-55 Zona 14, Europlaza World Business Center, Torre 3, Nivel 11, Guatemala"]
[null,null,null,"PBX: 2300-8000 / www.bupasalud.com / servicioguatemala@bupalatinamerica.com"]

{"sheet":"Resumen tarifas anuales","index":2,"n_rows":69,"n_cols":9,"rows_kept":69,"cut":false,"hidden":false,"merged":[[1,2,1,8],[66,2,66,8],[67,2,67,8],[68,2,68,8],[22,2,22,8],[62,2,62,8],[26,2,26,8],[27,2,28,2],[23,2,23,3],[31,2,31,8],[47,2,47,8],[51,2,51,8],[6,3,6,8],[8,3,8,8],[14,1,14,2],[13,1,13,2],[16,3,16,8],[52,1,53,1],[56,2,56,8],[57,1,58,1],[63,2,64,8],[32,2,33,2],[48,1,48,2],[37,2,37,8],[38,2,39,8]]}
[]
[null,null,"Cotización de Seguro Médico Internacional - BUPA Guatemala"]
[]
[]
[null,null,null,null,null," "," "," "," "]
[]
[null,null,"Nombre del Asegurado:",{"$f":"+'INGRESO DE DATOS'!$D$14","v":"Nombre"}]
[]
[null,null,"Intermediario:",{"$f":"+'INGRESO DE DATOS'!$D$25","v":"Agente / Agencia"}]
[]
[null,null,"Fecha:",{"$f":"+TODAY()","v":"2023-07-25"},null,{"$f":"IF('INGRESO DE DATOS'!G20>0,\"Descuento\",\"\")","v":""},{"$f":"IF('INGRESO DE DATOS'!G20>0,'INGRESO DE DATOS'!G20,\"\")","v":""}]
[]
[null,null,null,null,"Numero de Adultos:",{"$f":"+'INGRESO DE DATOS'!$G$16","v":1},null,"Edad de Titular:",{"$f":"+'INGRESO DE DATOS'!$G$18","v":40}]
[]
[null,null,null,null,"Numero de Hijos:",{"$f":"+'INGRESO DE DATOS'!$J$16","v":0},null,"Edad de Conyuge:",{"$f":"+'INGRESO DE DATOS'!$J$18","v":46}]
[null,null,null,null,null," "," "," "]
[null,null,null,"DEDUCIBLES"]
[null,null,null,"PLAN 1","PLAN 2","PLAN 3","PLAN 4","PLAN 5","PLAN 6"]
[null,null,"Dentro del pais de residencia","n/a",1000,2000,5000,10000,20000]
[null,null,"Fuera del pais de residencia","n/a",2000,3000,5000,10000,20000]
[]
[]
[null,null,"TARIFAS ANUALES"]
[null,null,"Classic Care",null,{"$f":"+#REF!","v":{"$error":"#REF!"}},{"$f":"+#REF!","v":{"$error":"#REF!"}},{"$f":"+#REF!","v":{"$error":"#REF!"}},{"$f":"+#REF!","v":{"$error":"#REF!"}},{"$f":"+#REF!","v":{"$error":"#REF!"}}]
[]
[]
[null,null,"TARIFAS SEMIANUALES"]
[null,null,"Classic Care","1ra. Cuota",{"$f":"+#REF!","v":{"$error":"#REF!"}},{"$f":"+#REF!","v":{"$error":"#REF!"}},{"$f":"+#REF!","v":{"$error":"#REF!"}},{"$f":"+#REF!","v":{"$error":"#REF!"}},{"$f":"+#REF!","v":{"$error":"#REF!"}}]
[null,null,null,"2da. Cuota",{"$f":"+#REF!","v":{"$error":"#REF!"}},{"$f":"+#REF!","v":{"$error":"#REF!"}},{"$f":"+#REF!","v":{"$error":"#REF!"}},{"$f":"+#REF!","v":{"$error":"#REF!"}},{"$f":"+#REF!","v":{"$error":"#REF!"}}]
[null,null,null,"TOTAL",{"$f":"#REF!","v":{"$error":"#REF!"}},{"$f":"#REF!","v":{"$error":"#REF!"}},{"$f":"#REF!","v":{"$error":"#REF!"}},{"$f":"#REF!","v":{"$error":"#REF!"}},{"$f":"#REF!","v":{"$error":"#REF!"}}]
[]
[null,null,"TARIFAS TRIMESTRALES"]
[null,null,"Classic Care","1ra. Cuota",{"$f":"+#REF!","v":{"$error":"#REF!"}},{"$f":"+#REF!","v":{"$error":"#REF!"}},{"$f":"+#REF!","v":{"$error":"#REF!"}},{"$f":"+#REF!","v":{"$error":"#REF!"}},{"$f":"+#REF!","v":{"$error":"#REF!"}}]
[null,null,null,"2da. a 4ta. Cuota",{"$f":"+#REF!","v":{"$error":"#REF!"}},{"$f":"+#REF!","v":{"$error":"#REF!"}},{"$f":"+#REF!","v":{"$error":"#REF!"}},{"$f":"+#REF!","v":{"$error":"#REF!"}},{"$f":"+#REF!","v":{"$error":"#REF!"}}]
[null,null,null,"TOTAL",{"$f":"#REF!","v":{"$error":"#REF!"}},{"$f":"#REF!","v":{"$error":"#REF!"}},{"$f":"#REF!","v":{"$error":"#REF!"}},{"$f":"#REF!","v":{"$error":"#REF!"}},{"$f":"#REF!","v":{"$error":"#REF!"}}]
[]
[]
[null,null,"Tarifas en US $ -  Efectivas a partir del 1ro de enero de  2023"]
[null,null,"Este presupuesto solamente tiene carácter informativo y en ningún momento expresa compromiso legal para suministrarle cobertura de seguro. La emisión de una póliza de seguro Bupa está sujeta a todas las evaluaciones de riesgo por parte de Bupa y a la recepción de todos los pagos de prima requeridos."]
[]
[]
[]
[null,null,null,"PLAN 1","PLAN 2","PLAN 3","PLAN 4","PLAN 5","PLAN 6"]
[null,"Dentro del pais de residencia",null,250,250,1000,5000,10000,20000]
[null,"Fuera del pais de residencia",null,1000,5000,10000,5000,10000,20000]
[]
[]
[null,null,"TARIFAS ANUALES"]
[null,"Essential Care",null,{"$f":"'Essential Care'!E42","v":2654.1312000000003},{"$f":"'Essential Care'!F42","v":2577.5231999999996},{"$f":"'Essential Care'!G42","v":2439.6287999999995},{"$f":"'Essential Care'!H42","v":1670.7264},{"$f":"'Essential Care'!I42","v":1319.136},{"$f":"'Essential Care'!J42","v":1053.8304000000001}]
[]
[]
[null,null,"TARIFAS SEMIANUALES"]
[null,"Essential Care","1ra. Cuota",{"$f":"'Essential Care'!E55","v":1446.1695359999999},{"$f":"'Essential Care'!F55","v":1405.5672960000002},{"$f":"'Essential Care'!G55","v":1332.483264},{"$f":"'Essential Care'!H55","v":924.96499200000005},{"$f":"'Essential Care'!I55","v":738.62207999999987},{"$f":"'Essential Care'!J55","v":598.01011199999994}]
[null,null,"2da. Cuota",{"$f":"'Essential Care'!E56","v":1362.1695359999999},{"$f":"'Essential Care'!F56","v":1321.5672960000002},{"$f":"'Essential Care'!G56","v":1248.483264},{"$f":"'Essential Care'!H56","v":840.96499200000005},{"$f":"'Essential Care'!I56","v":654.62207999999987},{"$f":"'Essential Care'!J56","v":514.01011199999994}]
[null,null,"TOTAL",{"$f":"'Essential Care'!E57","v":2808.3390719999998},{"$f":"'Essential Care'!F57","v":2727.1345920000003},{"$f":"'Essential Care'!G57","v":2580.9665279999999},{"$f":"'Essential Care'!H57","v":1765.9299840000001},{"$f":"'Essential Care'!I57","v":1393.2441599999997},{"$f":"'Essential Care'!J57","v":1112.0202239999999}]
[]
[null,null,"TARIFAS TRIMESTRALES"]
[null,"Essential Care","1ra. Cuota",{"$f":"'Essential Care'!E71","v":790.78608000000008},{"$f":"'Essential Care'!F71","v":769.71888000000001},{"$f":"'Essential Care'!G71","v":731.79792000000009},{"$f":"'Essential Care'!H71","v":520.34976000000006},{"$f":"'Essential Care'!I71","v":423.66239999999999},{"$f":"'Essential Care'!J71","v":350.70336000000003}]
[null,null,"2da. a 4ta. Cuota",{"$f":"'Essential Care'!E72","v":706.78608000000008},{"$f":"'Essential Care'!F72","v":685.71888000000001},{"$f":"'Essential Care'!G72","v":647.79792000000009},{"$f":"'Essential Care'!H72","v":436.34976},{"$f":"'Essential Care'!I72","v":339.66239999999999},{"$f":"'Essential Care'!J72","v":266.70336000000003}]
[null,null,"TOTAL",{"$f":"'Essential Care'!E73","v":2911.1443200000003},{"$f":"'Essential Care'!F73","v":2826.8755200000001},{"$f":"'Essential Care'!G73","v":2675.1916800000004},{"$f":"'Essential Care'!H73","v":1829.39904},{"$f":"'Essential Care'!I73","v":1442.6496},{"$f":"'Essential Care'!J73","v":1150.8134400000001}]
[]
[]
[null,null,"Tarifas en US $ -  Efectivas a partir del 1ro de enero de  2023"]
[null,null,"Este presupuesto solamente tiene carácter informativo y en ningún momento expresa compromiso legal para suministrarle cobertura de seguro. La emisión de una póliza de seguro Bupa está sujeta a todas las evaluaciones de riesgo por parte de Bupa y a la recepción de todos los pagos de prima requeridos."]
[]
[]
[null,null,"Bupa Guatemala, Compañía de Seguros, S.A."]
[null,null,"5 Avenida 5-55 Zona 14, Europlaza World Business Center, Torre 3, Nivel 11, Guatemala"]
[null,null,"PBX: 2300-8000 / www.bupasalud.com / servicioguatemala@bupalatinamerica.com"]

{"sheet":"Tablas","index":3,"n_rows":1133,"n_cols":24,"rows_kept":1133,"cut":false,"hidden":true,"merged":[[1062,0,1062,1],[1062,2,1062,6],[987,0,987,7],[988,0,988,1],[988,2,988,6],[1060,0,1060,7],[1061,0,1061,7],[952,0,952,7],[953,0,953,7],[954,0,954,1],[954,2,954,6],[986,0,986,7],[918,0,918,7],[919,0,919,7],[920,0,920,1],[920,2,920,6],[1,0,1,7],[2,0,2,7],[36,0,36,1],[36,2,36,6],[35,0,35,7],[3,0,3,1],[3,2,3,6],[135,0,135,7],[69,0,69,7],[70,0,70,1],[70,2,70,6],[203,0,203,7],[136,0,136,7],[137,0,137,1],[137,2,137,6],[169,0,169,7],[170,0,170,1],[68,0,68,7],[102,0,102,7],[103,0,103,1],[103,2,103,6],[342,0,342,7],[269,0,269,7],[270,0,270,7],[271,0,271,1],[271,2,271,6],[170,2,170,6],[202,0,202,7],[236,0,236,7],[237,0,237,1],[237,2,237,6],[204,0,204,1],[204,2,204,6],[628,0,628,7],[482,0,482,7],[483,0,483,7],[484,0,484,1],[484,2,484,6],[343,2,343,6],[415,0,415,7],[555,0,555,7],[556,0,556,1],[556,2,556,6],[343,0,343,1],[449,0,449,7],[450,0,450,1],[450,2,450,6],[416,0,416,7],[417,0,417,1],[417,2,417,6],[629,0,629,7],[630,0,630,1],[630,2,630,6],[701,0,701,7],[702,0,702,1],[702,2,702,6],[847,0,847,1],[847,2,847,6],[773,0,773,7],[774,0,774,7],[775,0,775,1],[775,2,775,6],[846,0,846,7]]}
[]
["BUPA COMPLETE GUATEMALA",null,null,null,null,null,null,null,null,"FACTOR SEMESTRAL :",null,0.53]
["TARIFAS ANUALES",null,null,null,null,null,null,null,"OK","FACTOR TRIMESTRAL :",null,0.27500000000000002]
["EDAD"]
[" "," ","DW1","DW2","DW3","DW4","DW5","DW6"]
[18,"-  24",12140,7386,5058,3643,2581,1973,null,"Descuento (15%)",null,0.72]
[25,"-  29",12747,7738,5616,4048,2833,2176]
[30,"-  34",13305,8094,6019,4504,3442,2633]
[35,"-  39",14871,9056,6728,5058,3846,2936]
[40,"-  44",16844,10520,7386,5616,4250,3238]
[45,"-  49",18817,11736,8246,6272,4756,3643]
[50,"-  54",24836,15326,10876,8246,6780,5213]
[55,"-  59",26403,16337,11583,8801,7233,5514]
[60,null,28022,17754,12596,10015,8600,6929]
[61,null,30096,19068,13507,10724,9258,7437]
[62,null,32928,20889,14771,11736,10115,8143]
[63,null,35003,22205,15730,12495,10775,8649]
[64,null,37886,24026,16996,13507,11635,9359]
[65,null,39704,31412,22205,17097,15529,13201]
[66,null,41475,36519,25797,19878,18059,15326]
[67,null,45320,39858,28174,21698,19727,16743]
[68,null,50125,44156,31207,24026,21851,18564]
[69,null,55130,48558,34294,26454,24026,20383]
[70,null,65249,59785,41778,31106,27971,23975]
[71,null,67829,62112,43400,32322,29085,24937]
[72,null,69750,63882,44662,33232,29893,25645]
[73,null,72279,66209,46282,34447,31005,26606]
[74,null,73593,67424,47091,35104,31562,27061]
[75,"o más",76781,70357,49163,36619,32928,28224]
[1,"Hijo",2270,4097,1872,1469,1266,911]
[2,"Hijos",3566,6424,2985,2329,1973,1469]
[3,"Hijos o más",5193,9359,4351,3442,2883,2127]
[1,"Rider Comp. Maternidad",0,0,0,225,225,225]
[1,"Transplante de organos",0,0,0,0,0,0]
[]
["TARIFAS SEMESTRALES "]
["EDAD"]
[" "," ","DW1","DW2","DW3","DW4","DW5","DW6"]
[18,"-  24",4135.59,3251.55,2226.5300000000002,1603.78,1135.79,868.1400000000001]
[25,"-  29",4342.29,3406.84,2472.4500000000003,1781.8600000000001,1247.0900000000001,957.71]
[30,"-  34",4532.0300000000007,3563.19,2650,1982.73,1514.74,1158.5800000000002]
[35,"-  39",5066.2700000000004,3986.6600000000003,2961.6400000000003,2226.5300000000002,1692.8200000000002,1292.1400000000001]
[40,"-  44",5738.31,4631.67,3251.55,2472.4500000000003,1870.3700000000001,1425.17]
[45,"-  49",6410.35,5166.97,3629.9700000000003,2761.3,2093.5,1603.78]
[50,"-  54",8460.92,6747.43,4788.0200000000004,3629.9700000000003,2984.4300000000003,2294.37]
[55,"-  59",8994.630000000001,7192.63,5099.66,3874.8300000000004,3184.2400000000002,2427.4]
[60,null,9546.36,7816.4400000000005,5545.39,4409.0700000000006,3785.79,3050.6800000000003]
[61,null,10252.85,8395.2000000000007,5946.6,4721.2400000000007,4075.7000000000003,3273.81]
[62,null,11217.980000000001,9197.09,6503.1,5166.97,4453.0600000000004,3584.92]
[63,null,11924.470000000001,9775.85,6925.51,5500.87,4743.5,3808.05]
[64,null,12906.560000000001,10577.74,7482.54,5946.6,5122.45,4120.22]
[65,null,13526.66,13829.820000000002,9775.85,7527.06,6837,5811.9800000000005]
[66,null,14129.800000000001,16078.61,11357.37,8751.8900000000012,7950.5300000000007,6747.43]
[67,null,15439.43,17548.830000000002,12404.12,9553.25,8685.11,7371.2400000000007]
[68,null,17076.600000000002,19440.93,13739.720000000001,10577.74,9620.5600000000013,8173.13]
[69,null,18782.14,21379.14,15098.640000000001,11646.75,10577.74,8973.9600000000009]
[70,null,22228.73,26322.45,18394.18,13695.2,12315.08,10555.480000000001]
[71,null,23107.47,27346.940000000002,19108.09,14230.5,12805.33,10978.95]
[72,null,23762.550000000003,28126.57,19663.530000000002,14631.18,13160.960000000001,11290.59]
[73,null,24623.800000000003,29150.530000000002,20376.91,15165.95,13651.210000000001,11713.53]
[74,null,25071.65,29685.83,20733.07,15455.33,13896.070000000002,11914.400000000001]
[75,"o más",26157.620000000003,30976.91,21645.73,16122.6,14497.62,12426.380000000001]
[1,"Hijo",1395.49,1135.79,824.15000000000009,646.07000000000005,557.03,400.68]
[2,"Hijos",2188.37,1803.0600000000002,1313.8700000000001,1025.02,868.1400000000001,646.07000000000005]
[3,"Hijos o más",3187.9500000000003,2627.21,1915.42,1514.74,1268.8200000000002,935.98]
[1,"Rider Comp. Maternidad",{"$f":"+C33*$L$2","v":0},0,0,119.25,119.25,119.25]
[1,"Transplante de organos",0,0,0,0,0,0]
[]
["DIAMOND (LATINAMERICA ONLY)"]
["TARIFAS ANUALES"]
["EDAD"]
[" "," ","DL1","DL2","DL3","DL4","DL5","DL6"]
[18,"-  24",4794,2952,1949,1401,993,779]
[25,"-  29",5028,3097,2156,1553,1103,867]
[30,"-  34",5200,3223,2312,1743,1322,1041]
[35,"-  39",5816,3609,2590,1951,1483,1168]
[40,"-  44",6733,4186,2831,2168,1630,1284]
[45,"-  49",7517,4680,3168,2425,1824,1436]
[50,"-  54",9772,5991,4158,3164,2578,2033]
[55,"-  59",10394,6374,4426,3365,2744,2164]
[60,null,11056,6945,4828,3871,3307,2688]
[61,null,11876,7463,5187,4159,3555,2886]
[62,null,12994,8172,5684,4557,3892,3162]
[63,null,13812,8687,6042,4844,4139,3362]
[64,null,14936,9396,6539,5242,4475,3639]
[65,null,15651,12288,8530,6629,5974,5139]
[66,null,16363,14275,9911,7703,6942,5968]
[67,null,17867,15595,10826,8416,7581,6521]
[68,null,19780,17268,11986,9320,8398,7220]
[69,null,21758,18999,13190,10254,9240,7945]
[70,null,25748,23384,16061,12071,10768,9345]
[71,null,26759,24303,16691,12545,11190,9716]
[72,null,27512,24990,17164,12900,11507,9987]
[73,null,28525,25911,17793,13375,11931,10356]
[74,null,29026,26368,18111,13609,12143,10540]
[75,"o más",30287,27515,18898,14204,12670,11001]
[1,"Hijo",1660,1027,758,629,527,413]
[2,"Hijos",2608,1634,1204,999,841,656]
[3,"Hijos o más",3798,2395,1766,1465,1234,961]
[1,"Rider Comp. Maternidad",0,0,0,225,225,225]
[1,"Transplante de organos",0,0,0,0,0,0]
[]
["TARIFAS SEMESTRALES "]
["EDAD"]
[" "," ","DL1","DL2","DL3","DL4","DL5","DL6"]
[18,"-  24",{"$f":"+C73*$L$2","v":2540.8200000000002},1564.5600000000002,1032.97,742.53000000000009,526.29000000000008,412.87]
[25,"-  29",2664.84,1641.41,1142.68,823.09,584.59,459.51000000000005]
[30,"-  34",2756,1708.19,1225.3600000000001,923.79000000000008,700.66000000000008,551.73]
[35,"-  39",3082.48,1912.7700000000002,1372.7,1034.03,785.99,619.04000000000008]
[40,"-  44",3568.4900000000002,2218.58,1500.43,1149.04,863.90000000000009,680.52]
[45,"-  49",3984.01,2480.4,1679.0400000000002,1285.25,966.72,761.08]
[50,"-  54",5179.16,3175.23,2203.7400000000002,1676.92,1366.3400000000001,1077.49]
[55,"-  59",5508.8200000000006,3378.2200000000003,2345.7800000000002,1783.45,1454.3200000000002,1146.92]
[60,null,5859.68,3680.8500000000004,2558.84,2051.63,1752.71,1424.64]
[61,null,6294.2800000000007,3955.3900000000003,2749.11,2204.27,1884.15,1529.5800000000002]
[62,null,{"$f":"+C83*$L$2","v":6886.8200000000006},4331.16,3012.52,2415.21,2062.7600000000002,1675.8600000000001]
[63,null,7320.3600000000006,4604.1100000000006,3202.26,2567.3200000000002,2193.67,1781.8600000000001]
[64,null,7916.0800000000008,4979.88,3465.67,2778.26,2371.75,1928.67]
[65,null,8295.0300000000007,6512.64,4520.9000000000005,3513.3700000000003,3166.2200000000003,2723.67]
[66,null,8672.3900000000012,7565.75,5252.83,4082.59,3679.26,3163.04]
[67,null,9469.51,8265.35,5737.7800000000007,4460.4800000000005,4017.9300000000003,3456.13]
[68,null,10483.4,9152.0400000000009,6352.58,4939.6000000000004,4450.9400000000005,3826.6000000000004]
[69,null,11531.74,10069.470000000001,6990.7000000000007,5434.62,4897.2,4210.8500000000004]
[70,null,13646.44,12393.52,8512.33,6397.63,5707.04,4952.8500000000004]
[71,null,14182.27,12880.59,8846.23,6648.85,5930.7000000000007,5149.4800000000005]
[72,null,{"$f":"+C93*$L$2","v":14581.36},13244.7,9096.92,6837,6098.71,5293.1100000000006]
[73,null,15118.25,13732.83,9430.2900000000009,7088.75,6323.43,5488.68]
[74,null,15383.78,13975.04,9598.83,7212.77,6435.79,5586.2000000000007]
[75,"o más",16052.11,14582.95,10015.94,7528.1200000000008,6715.1,5830.5300000000007]
[1,"Hijo",879.80000000000007,544.31000000000006,401.74,333.37,279.31,218.89000000000001]
[2,"Hijos",1382.24,866.0200000000001,638.12,529.47,445.73,347.68]
[3,"Hijos o más",2012.94,1269.3500000000001,935.98,776.45,654.02,509.33000000000004]
[1,"Rider Comp. Maternidad",0,0,0,119.25,119.25,119.25]
[1,"Transplante de organos",0,0,0,0,0,0]
[]
["BUPA SECURE GUATEMALA"]
["TARIFAS ANUALES"]
["EDAD",null,null,null,null,null,null,null,"OK"]
[" "," ","CW1","CW2","CW3","CW4","CW5","CW6"]
[18,"-  24",4209,3551,2780,2126,1854,1389]
[25,"-  29",4670,3900,3127,2393,2047,1545]
[30,"-  34",5368,4479,3668,2780,2393,1816]
[35,"-  39",5945,4943,4131,3090,2664,2006]
[40,"-  44",6718,5520,4711,3477,3012,2279]
[45,"-  49",7798,6371,5520,4054,3514,2626]
[50,"-  54",8531,6951,6062,4441,3823,2896]
[55,"-  59",10038,8184,7256,5251,4556,3399]
[60,null,10617,8571,7760,5560,4827,3591]
[61,null,11929,9652,8725,6294,5406,4054]
[62,null,13280,10731,9690,6989,6024,4517]
[63,null,14592,11776,10655,7683,6641,4980]
[64,null,15943,12855,11658,8377,7256,5444]
[65,null,15984,12894,11735,8455,7298,5444]
[66,null,16059,12894,11852,8493,7335,5444]
[67,null,17833,14321,13202,9420,8145,6062]
[68,null,19611,15749,14514,10384,8957,6681]
[69,null,20538,16483,15172,10849,9381,6989]
[70,null,20653,16522,15404,10965,9457,7026]
[71,null,23277,18570,17373,12353,10655,7916]
[72,null,25865,20653,19303,13703,11813,8801]
[73,null,28451,22739,21231,15095,13009,9690]
[74,null,31036,24784,23162,16483,14205,10579]
[75,"o más",33893,27023,25402,18027,15519,11544]
[1,"Hijo",1892,1698,1005,850,734,542]
[2,"Hijos",3127,2896,1508,1352,1159,850]
[3,"Hijos o más",4556,4246,2163,1969,1698,1275]
[1,"Rider Comp. Maternidad",0,225,225,225,225,225]
[1,"Transplante de organos",0,0,0,0,0,0]
[]
["TARIFAS SEMESTRALES ",null,null,null,null,null,null,null,"PENDIENTE"]
["EDAD"]
[" "," ","CW1","CW2","CW3","CW4","CW5","CW6"]
[18,"-  24",1408.21,1562.97,1223.77,935.45,816.2,611.09]
[25,"-  29",1562.97,1716.67,1376.41,1053.1100000000001,901,679.99]
[30,"-  34",1795.64,1971.6000000000001,1614.38,1223.77,1053.1100000000001,799.24]
[35,"-  39",1989.0900000000001,2175.65,1818.43,1359.98,1172.8900000000001,882.98]
[40,"-  44",2247.73,2430.0500000000002,2073.8900000000003,1530.1100000000001,1325.53,1002.7600000000001]
[45,"-  49",2609.19,2804.76,2430.0500000000002,1784.51,1546.5400000000002,1155.93]
[50,"-  54",2854.58,3059.69,2668.55,1954.64,1682.75,1274.6500000000001]
[55,"-  59",3358.61,3602.94,3194.31,2311.33,2005.5200000000002,1496.19]
[60,null,3552.59,3773.07,3415.8500000000004,2447.54,2124.77,1580.99]
[61,null,3991.4300000000003,4249.01,3840.9100000000003,2770.84,2379.7000000000003,1784.51]
[62,null,4443.5200000000004,4724.42,4265.97,3076.65,2651.59,1988.5600000000002]
[63,null,4882.8900000000003,5184.46,4691.0300000000007,3382.46,2923.48,2192.08]
[64,null,5334.9800000000005,5659.34,5132.5200000000004,3687.7400000000002,3194.31,2396.6600000000003]
[65,null,5348.2300000000005,5676.83,5166.4400000000005,3722.19,3212.86,2396.6600000000003]
[66,null,5373.67,5676.83,5217.8500000000004,3739.15,3229.29,2396.6600000000003]
[67,null,5967.8,6304.88,5812.51,4147.25,3585.98,2668.55]
[68,null,6562.46,6933.9900000000007,6390.21,4571.7800000000007,3943.2000000000003,2940.9700000000003]
[69,null,6872.51,7256.76,6679.59,4776.3600000000006,4129.76,3076.65]
[70,null,6911.2000000000007,7274.25,6781.88,4827.2400000000007,4163.68,3093.0800000000004]
[71,null,7789.4100000000008,8175.7800000000007,7648.43,5438.33,4691.0300000000007,3484.75]
[72,null,8654.9,9093.2100000000009,8498.5500000000011,6032.9900000000007,5200.8900000000003,3874.8300000000004]
[73,null,9520.3900000000012,10011.17,9347.61,6645.67,5727.18,4265.97]
[74,null,10385.880000000001,10911.640000000001,10197.730000000001,7256.76,6254,4657.1100000000006]
[75,"o más",11342,11897.44,11183.53,7936.75,6832.2300000000005,5082.17]
[1,"Hijo",632.82000000000005,747.30000000000007,442.02000000000004,373.65000000000003,322.77,237.97]
[2,"Hijos",1046.22,1274.6500000000001,663.56000000000006,594.66000000000008,509.86,373.65000000000003]
[3,"Hijos o más",1524.28,1869.3100000000002,951.88,866.55000000000007,747.3,560.74]
[1,"Rider Comp. Maternidad",{"$f":"+C167*$L$2","v":0},119.25,119.25,119.25,119.25,119.25]
[1,"Transplante de organos",0,0,0,0,0,0]
[]
["COMPLETE (LATINAMERICA ONLY)"]
["TARIFAS ANUALES"]
["EDAD"]
[" "," ","CL1","CL2","CL3","CL4","CL5","CL6"]
[18,"-  24",4108,2493,1711,1222,864,656]
[25,"-  29",4312,2617,1893,1355,958,727]
[30,"-  34",4497,2733,2028,1520,1162,884]
[35,"-  39",5030,3059,2271,1704,1304,991]
[40,"-  44",5699,3544,2490,1897,1437,1095]
[45,"-  49",6362,3962,2784,2121,1606,1226]
[50,"-  54",8400,5181,3675,2788,2297,1752]
[55,"-  59",8934,5515,3910,2965,2444,1865]
[60,null,9484,6004,4246,3377,2908,2333]
[61,null,10185,6452,4562,3627,3125,2507]
[62,null,11146,7062,4997,3973,3422,2746]
[63,null,11845,7510,5314,4224,3639,2920]
[64,null,12809,8124,5749,4572,3937,3161]
[65,null,13423,10620,7502,5783,5253,4458]
[66,null,14033,12341,8716,6718,6105,5183]
[67,null,15322,13481,9521,7338,6668,5662]
[68,null,16961,14927,10543,8127,7387,6271]
[69,null,18656,16424,11600,8941,8127,6900]
[70,null,22081,20216,14125,10526,9470,8117]
[71,null,22943,21009,14681,10940,9844,8436]
[72,null,23592,21603,15097,11250,10123,8676]
[73,null,24457,22398,15651,11665,10493,8996]
[74,null,24890,22795,15928,11869,10680,9155]
[75,"o más",25970,23787,16621,12385,11147,9552]
[1,"Hijo",1395,867,632,499,421,313]
[2,"Hijos",2187,1379,1009,795,669,498]
[3,"Hijos o más",3179,2023,1479,1166,983,727]
[1,"Rider Comp. Maternidad",0,0,0,225,225,225]
[1,"Transplante de organos",0,0,0,0,0,0]
[]
["TARIFAS SEMESTRALES "]
["EDAD"]
[" "," ","CL1","CL2","CL3","CL4","CL5","CL6"]
[18,"-  24",{"$f":"+C207*$L$2","v":2177.2400000000002},1321.29,906.83,647.66000000000008,457.92,347.68]
[25,"-  29",2285.36,1387.01,1003.2900000000001,718.15000000000009,507.74,385.31]
[30,"-  34",2383.4100000000003,1448.49,1074.8400000000001,805.6,615.86,468.52000000000004]
[35,"-  39",2665.9,1621.27,1203.6300000000001,903.12,691.12,525.23]
[40,"-  44",3020.4700000000003,1878.3200000000002,1319.7,1005.4100000000001,761.61,580.35]
[45,"-  49",3371.86,2099.86,1475.52,1124.1300000000001,851.18000000000006,649.78000000000009]
[50,"-  54",4452,2745.9300000000003,1947.75,1477.64,1217.4100000000001,928.56000000000006]
[55,"-  59",4735.0200000000004,2922.9500000000003,2072.3000000000002,1571.45,1295.3200000000002,988.45]
[60,null,5026.5200000000004,3182.1200000000003,2250.38,1789.8100000000002,1541.24,1236.49]
[61,null,5398.05,3419.56,2417.86,1922.3100000000002,1656.25,1328.71]
[62,null,{"$f":"+C217*$L$2","v":5907.38},3742.86,2648.4100000000003,2105.69,1813.66,1455.38]
[63,null,6277.85,3980.3,2816.42,2238.7200000000003,1928.67,1547.6000000000001]
[64,null,6788.77,4305.72,3046.9700000000003,2423.1600000000003,2086.61,1675.3300000000002]
[65,null,7114.1900000000005,5628.6,3976.0600000000004,3064.9900000000002,2784.09,2362.7400000000002]
[66,null,7437.4900000000007,6540.7300000000005,4619.4800000000005,3560.54,3235.65,2746.9900000000002]
[67,null,8120.6600000000008,7144.93,5046.13,3889.1400000000003,3534.04,3000.86]
[68,null,8989.33,7911.31,5587.79,4307.3100000000004,3915.11,3323.63]
[69,null,9887.68,8704.7200000000012,6148,4738.7300000000005,4307.3100000000004,3657]
[70,null,11702.93,10714.480000000001,7486.25,5578.7800000000007,5019.1000000000004,4302.01]
[71,null,12159.79,11134.77,7780.93,5798.2000000000007,5217.3200000000006,4471.08]
[72,null,{"$f":"+C227*$L$2","v":12503.76},11449.59,8001.4100000000008,5962.5,5365.1900000000005,4598.2800000000007]
[73,null,12962.210000000001,11870.94,8295.0300000000007,6182.4500000000007,5561.29,4767.88]
[74,null,13191.7,12081.35,8441.84,6290.5700000000006,5660.4000000000005,4852.1500000000005]
[75,"o más",13764.1,12607.11,8809.130000000001,6564.05,5907.91,5062.5600000000004]
[1,"Hijo",739.35,459.51000000000005,334.96000000000004,264.47000000000003,223.13000000000002,165.89000000000001]
[2,"Hijos",1159.1100000000001,730.87,534.77,421.35,354.57,263.94]
[3,"Hijos o más",1684.8700000000001,1072.19,783.87,617.98,520.99,385.31]
[1,"Rider Comp. Maternidad",0,0,0,119.25,119.25,119.25]
[1,"Transplante de organos",0,0,0,0,0,0]
[]
["ESSENTIAL CARE GUATEMALA",null,null,null,null,null,null,null,"OK"]
["TARIFAS ANUALES"]
["EDAD"]
[" "," ","AW1","AW2","AW3","AW4","AW5","AW6"]
[18,null,{"$f":"Q274","v":1054.08},{"$f":"R274","v":1013.76},939.59999999999991,666,501.84,352.8,null,1464,1408,1305,925,697,490,null,{"$f":"J274*0.72","v":1054.08},{"$f":"K274*0.72","v":1013.76},939.59999999999991,666,501.84,352.8]
[19,null,{"$f":"Q275","v":1074.24},{"$f":"R275","v":1033.2},{"$f":"S275","v":958.31999999999994},{"$f":"T275","v":678.24},{"$f":"U275","v":501.84},{"$f":"V275","v":364.32},null,1492,1435,1331,942,697,506,null,{"$f":"J275*0.72","v":1074.24},{"$f":"K275*0.72","v":1033.2},{"$f":"L275*0.72","v":958.31999999999994},{"$f":"M275*0.72","v":678.24},{"$f":"N275*0.72","v":501.84},{"$f":"O275*0.72","v":364.32}]
[20,null,1092.96,1051.92,974.88,690.48,515.52,364.32,null,1518,1461,1354,959,716,506,null,1092.96,1051.92,974.88,690.48,515.52,364.32]
[21,null,1113.1199999999999,1070.6399999999999,992.16,702.72,527.76,377.28,null,1546,1487,1378,976,733,524,null,1113.1199999999999,1070.6399999999999,992.16,702.72,527.76,377.28]
[22,null,1134,1090.08,1010.88,716.4,540,377.28,null,1575,1514,1404,995,750,524,null,1134,1090.08,1010.88,716.4,540,377.28]
[23,null,1152,1108.08,1026.72,727.92,540,390.96,null,1600,1539,1426,1011,750,543,null,1152,1108.08,1026.72,727.92,540,390.96]
[24,null,1193.04,1147.68,1063.44,753.83999999999992,552.24,401.76,null,1657,1594,1477,1047,767,558,null,1193.04,1147.68,1063.44,753.83999999999992,552.24,401.76]
[25,null,1212.48,1165.68,1080.72,766.07999999999993,565.91999999999996,401.76,null,1684,1619,1501,1064,786,558,null,1212.48,1165.68,1080.72,766.07999999999993,565.91999999999996,401.76]
[26,null,1231.9199999999998,1185.1199999999999,1098.72,778.31999999999994,577.43999999999994,415.44,null,1711,1646,1526,1081,802,577,null,1231.9199999999998,1185.1199999999999,1098.72,778.31999999999994,577.43999999999994,415.44]
[27,null,1253.52,1205.28,1116.72,791.28,590.4,415.44,null,1741,1674,1551,1099,820,577,null,1253.52,1205.28,1116.72,791.28,590.4,415.44]
[28,null,1270.8,1222.56,1133.28,802.8,603.36,426.96,null,1765,1698,1574,1115,838,593,null,1270.8,1222.56,1133.28,802.8,603.36,426.96]
[29,null,1311.84,1261.44,1169.28,828.71999999999991,615.6,439.2,null,1822,1752,1624,1151,855,610,null,1311.84,1261.44,1169.28,828.71999999999991,615.6,439.2]
[30,null,1352.1599999999999,1300.32,1205.28,853.92,628.55999999999995,452.88,null,1878,1806,1674,1186,873,629,null,1352.1599999999999,1300.32,1205.28,853.92,628.55999999999995,452.88]
[31,null,1372.32,1319.76,1224,866.88,640.79999999999995,452.88,null,1906,1833,1700,1204,890,629,null,1372.32,1319.76,1224,866.88,640.79999999999995,452.88]
[32,null,1411.9199999999998,1357.9199999999998,1258.56,892.07999999999993,653.04,463.68,null,1961,1886,1748,1239,907,644,null,1411.9199999999998,1357.9199999999998,1258.56,892.07999999999993,653.04,463.68]
[33,null,1451.52,1395.36,1293.8399999999999,915.83999999999992,666,477.35999999999996,null,2016,1938,1797,1272,925,663,null,1451.52,1395.36,1293.8399999999999,915.83999999999992,666,477.35999999999996]
[34,null,1491.84,1434.24,1329.84,941.04,690.48,490.32,null,2072,1992,1847,1307,959,681,null,1491.84,1434.24,1329.84,941.04,690.48,490.32]
[35,null,1530,1470.96,1364.3999999999999,965.52,702.72,501.84,null,2125,2043,1895,1341,976,697,null,1530,1470.96,1364.3999999999999,965.52,702.72,501.84]
[36,null,1571.04,1510.56,1400.3999999999999,991.43999999999994,727.92,515.52,null,2182,2098,1945,1377,1011,716,null,1571.04,1510.56,1400.3999999999999,991.43999999999994,727.92,515.52]
[37,null,1609.9199999999998,1548,1434.96,1015.92,740.16,527.76,null,2236,2150,1993,1411,1028,733,null,1609.9199999999998,1548,1434.96,1015.92,740.16,527.76]
[38,null,1671.12,1607.04,1489.6799999999998,1054.8,766.07999999999993,540,null,2321,2232,2069,1465,1064,750,null,1671.12,1607.04,1489.6799999999998,1054.8,766.07999999999993,540]
[39,null,1728.72,1662.48,1541.52,1091.52,791.28,552.24,null,2401,2309,2141,1516,1099,767,null,1728.72,1662.48,1541.52,1091.52,791.28,552.24]
[40,null,1769.76,1701.36,1578.24,1116.72,802.8,565.91999999999996,null,2458,2363,2192,1551,1115,786,null,1769.76,1701.36,1578.24,1116.72,802.8,565.91999999999996]
[41,null,1828.8,1758.96,1630.8,1154.1599999999999,828.71999999999991,577.43999999999994,null,2540,2443,2265,1603,1151,802,null,1828.8,1758.96,1630.8,1154.1599999999999,828.71999999999991,577.43999999999994]
[42,null,1887.84,1815.12,1682.6399999999999,1191.5999999999999,853.92,590.4,null,2622,2521,2337,1655,1186,820,null,1887.84,1815.12,1682.6399999999999,1191.5999999999999,853.92,590.4]
[43,null,1946.1599999999999,1872.72,1735.9199999999998,1229.04,877.68,615.6,null,2703,2601,2411,1707,1219,855,null,1946.1599999999999,1872.72,1735.9199999999998,1229.04,877.68,615.6]
[44,null,2026.08,1949.04,1805.76,1279.44,904.31999999999994,628.55999999999995,null,2814,2707,2508,1777,1256,873,null,2026.08,1949.04,1805.76,1279.44,904.31999999999994,628.55999999999995]
[45,null,2085.12,2005.1999999999998,1859.76,1316.8799999999999,930.24,653.04,null,2896,2785,2583,1829,1292,907,null,2085.12,2005.1999999999998,1859.76,1316.8799999999999,930.24,653.04]
[46,null,2145.6,2063.52,1913.04,1354.32,953.28,666,null,2980,2866,2657,1881,1324,925,null,2145.6,2063.52,1913.04,1354.32,953.28,666]
[47,null,2224.7999999999997,2139.84,1983.6,1404.72,978.48,678.24,null,3090,2972,2755,1951,1359,942,null,2224.7999999999997,2139.84,1983.6,1404.72,978.48,678.24]
[48,null,2324.16,2235.6,2072.16,1467.36,1015.92,702.72,null,3228,3105,2878,2038,1411,976,null,2324.16,2235.6,2072.16,1467.36,1015.92,702.72]
[49,null,2404.08,2312.64,2143.44,1518.48,1054.8,727.92,null,3339,3212,2977,2109,1465,1011,null,2404.08,2312.64,2143.44,1518.48,1054.8,727.92]
[50,null,2502.7199999999998,2407.6799999999998,2232,1580.3999999999999,1091.52,740.16,null,3476,3344,3100,2195,1516,1028,null,2502.7199999999998,2407.6799999999998,2232,1580.3999999999999,1091.52,740.16]
[51,null,2603.52,2503.44,2321.2799999999997,1643.76,1128.96,766.07999999999993,null,3616,3477,3224,2283,1568,1064,null,2603.52,2503.44,2321.2799999999997,1643.76,1128.96,766.07999999999993]
[52,null,2682,2579.04,2391.12,1693.4399999999998,1166.3999999999999,791.28,null,3725,3582,3321,2352,1620,1099,null,2682,2579.04,2391.12,1693.4399999999998,1166.3999999999999,791.28]
[53,null,2800.7999999999997,2693.52,2496.96,1767.6,1205.28,816.48,null,3890,3741,3468,2455,1674,1134,null,2800.7999999999997,2693.52,2496.96,1767.6,1205.28,816.48]
[54,null,2921.04,2808.72,2604.2399999999998,1843.9199999999998,1253.52,828.71999999999991,null,4057,3901,3617,2561,1741,1151,null,2921.04,2808.72,2604.2399999999998,1843.9199999999998,1253.52,828.71999999999991]
[55,null,3038.4,2922.48,2708.64,1918.08,1291.68,853.92,null,4220,4059,3762,2664,1794,1186,null,3038.4,2922.48,2708.64,1918.08,1291.68,853.92]
[56,null,3159.3599999999997,3037.68,2816.64,1994.3999999999999,1342.08,877.68,null,4388,4219,3912,2770,1864,1219,null,3159.3599999999997,3037.68,2816.64,1994.3999999999999,1342.08,877.68]
[57,null,3276.72,3151.44,2921.04,2068.56,1392.48,904.31999999999994,null,4551,4377,4057,2873,1934,1256,null,3276.72,3151.44,2921.04,2068.56,1392.48,904.31999999999994]
[58,null,3456.72,3324.24,3081.6,2182.3199999999997,1442.8799999999999,930.24,null,4801,4617,4280,3031,2004,1292,null,3456.72,3324.24,3081.6,2182.3199999999997,1442.8799999999999,930.24]
[59,null,3615.8399999999997,3476.8799999999997,3223.44,2282.4,1504.8,953.28,null,5022,4829,4477,3170,2090,1324,null,3615.8399999999997,3476.8799999999997,3223.44,2282.4,1504.8,953.28]
[60,null,3773.52,3628.7999999999997,3363.8399999999997,2382.48,1568.1599999999999,991.43999999999994,null,5241,5040,4672,3309,2178,1377,null,3773.52,3628.7999999999997,3363.8399999999997,2382.48,1568.1599999999999,991.43999999999994]
[61,null,3992.3999999999996,3839.7599999999998,3559.68,2520.7199999999998,1643.76,1015.92,null,5545,5333,4944,3501,2283,1411,null,3992.3999999999996,3839.7599999999998,3559.68,2520.7199999999998,1643.76,1015.92]
[62,null,4290.4799999999996,4126.32,3824.64,2707.92,1756.8,1065.5999999999999,null,5959,5731,5312,3761,2440,1480,null,4290.4799999999996,4126.32,3824.64,2707.92,1756.8,1065.5999999999999]
[63,null,4708.8,4527.3599999999997,4196.88,2972.16,1918.08,1116.72,null,6540,6288,5829,4128,2664,1551,null,4708.8,4527.3599999999997,4196.88,2972.16,1918.08,1116.72]
[64,null,5283.36,5081.04,4710.24,3335.04,2144.88,1191.5999999999999,null,7338,7057,6542,4632,2979,1655,null,5283.36,5081.04,4710.24,3335.04,2144.88,1191.5999999999999]
[65,null,6018.48,5787.36,5365.44,3798.72,2432.88,1304.6399999999999,null,8359,8038,7452,5276,3379,1812,null,6018.48,5787.36,5365.44,3798.72,2432.88,1304.6399999999999]
[66,null,6912,6647.04,6161.76,4362.4799999999996,2771.2799999999997,1442.8799999999999,null,9600,9232,8558,6059,3849,2004,null,6912,6647.04,6161.76,4362.4799999999996,2771.2799999999997,1442.8799999999999]
[67,null,7945.2,7640.6399999999994,7082.6399999999994,5015.5199999999995,3160.08,1630.8,null,11035,10612,9837,6966,4389,2265,null,7945.2,7640.6399999999994,7082.6399999999994,5015.5199999999995,3160.08,1630.8]
[68,null,9036.7199999999993,8690.4,8056.08,5703.84,3585.6,1830.96,null,12551,12070,11189,7922,4980,2543,null,9036.7199999999993,8690.4,8056.08,5703.84,3585.6,1830.96]
[69,null,10187.279999999999,9797.76,9082.08,6431.04,4037.04,2057.04,null,14149,13608,12614,8932,5607,2857,null,10187.279999999999,9797.76,9082.08,6431.04,4037.04,2057.04]
[70,null,11418.48,10981.439999999999,10180.08,7207.92,4538.88,2295.36,null,15859,15252,14139,10011,6304,3188,null,11418.48,10981.439999999999,10180.08,7207.92,4538.88,2295.36]
[71,null,12710.16,12222.72,11330.64,8022.24,5064.4799999999996,2545.92,null,17653,16976,15737,11142,7034,3536,null,12710.16,12222.72,11330.64,8022.24,5064.4799999999996,2545.92]
[72,null,14060.16,13520.88,12534.48,8874.7199999999993,5628.24,2808.72,null,19528,18779,17409,12326,7817,3901,null,14060.16,13520.88,12534.48,8874.7199999999993,5628.24,2808.72]
[73,null,15490.08,14897.519999999999,13809.6,9777.6,6230.16,3085.2,null,21514,20691,19180,13580,8653,4285,null,15490.08,14897.519999999999,13809.6,9777.6,6230.16,3085.2]
[74,null,16979.04,16328.88,15136.56,10717.92,6870.24,3360.24,null,23582,22679,21023,14886,9542,4667,null,16979.04,16328.88,15136.56,10717.92,6870.24,3360.24]
[75,null,18527.759999999998,17817.84,16517.52,11694.96,7547.04,3648.24,null,25733,24747,22941,16243,10482,5067,null,18527.759999999998,17817.84,16517.52,11694.96,7547.04,3648.24]
[76,null,20136.96,19365.84,17952.48,12710.88,8261.2799999999988,3949.2,null,27968,26897,24934,17654,11474,5485,null,20136.96,19365.84,17952.48,12710.88,8261.2799999999988,3949.2]
[77,null,21803.759999999998,20969.28,19438.559999999998,13762.8,9012.9599999999991,4262.3999999999996,null,30283,29124,26998,19115,12518,5920,null,21803.759999999998,20969.28,19438.559999999998,13762.8,9012.9599999999991,4262.3999999999996]
[78,null,23551.919999999998,22649.759999999998,20996.639999999999,14865.84,9802.7999999999993,4576.32,null,32711,31458,29162,20647,13615,6356,null,23551.919999999998,22649.759999999998,20996.639999999999,14865.84,9802.7999999999993,4576.32]
[79,null,25358.399999999998,24387.84,22607.279999999999,16006.32,10617.119999999999,4914.72,null,35220,33872,31399,22231,14746,6826,null,25358.399999999998,24387.84,22607.279999999999,16006.32,10617.119999999999,4914.72]
[80,"o mas",27226.079999999998,26183.52,24271.919999999998,17185.68,11482.56,5241.5999999999995,null,37814,36366,33711,23869,15948,7280,null,27226.079999999998,26183.52,24271.919999999998,17185.68,11482.56,5241.5999999999995]
[1,"Hijo",457.2,439.91999999999996,408.24,288.71999999999997,241.2,190.07999999999998,null,635,611,567,401,335,264,null,457.2,439.91999999999996,408.24,288.71999999999997,241.2,190.07999999999998]
[2,"Hijos",717.12,689.76,639.36,452.88,377.28,298.08,null,996,958,888,629,524,414,null,717.12,689.76,639.36,452.88,377.28,298.08]
[3,"Hijos o más",{"$f":"Q339","v":1033.92},{"$f":"R339","v":994.31999999999994},{"$f":"S339","v":921.59999999999991},{"$f":"T339","v":653.04},{"$f":"U339","v":544.31999999999994},{"$f":"V339","v":429.12},null,1436,1381,1280,907,756,596,null,{"$f":"J339*0.72","v":1033.92},{"$f":"K339*0.72","v":994.31999999999994},{"$f":"L339*0.72","v":921.59999999999991},{"$f":"M339*0.72","v":653.04},{"$f":"N339*0.72","v":544.31999999999994},{"$f":"O339*0.72","v":429.12}]
[1,"Rider Comp. Maternidad",225,225,225,0,0,0,null,225,225,225,0,0,0]
[1,"Transplante de organos",300,300,300,300,300,300,null,300,300,300,300,300,300]
[null,"Deductible Waiver",null,180,345,775,1330,2080,null,null,180,345,775,1330,2080]
["TARIFAS SEMESTRALES ",null,null,null,null,null,null,null,"PENDIENTE"]
["EDAD"]
[" "," ","AW1","AW2","AW3","AW4","AW5","AW6"]
[18,null,{"$f":"+C274*$L$2","v":558.66239999999993},537.29280000000006,497.988,352.98,265.97519999999997,186.98400000000001]
[19,null,{"$f":"+C275*$L$2","v":569.34720000000004},547.596,507.90960000000001,359.46720000000005,265.97519999999997,193.08960000000002]
[20,null,{"$f":"+C276*$L$2","v":579.26880000000006},557.51760000000002,516.68640000000005,365.95440000000002,273.22559999999999,193.08960000000002]
[21,null,{"$f":"+C277*$L$2","v":589.95359999999994},567.43919999999991,525.84479999999996,372.44160000000005,279.71280000000002,199.95839999999998]
[22,null,{"$f":"+C278*$L$2","v":601.02},577.74239999999998,535.76639999999998,379.69200000000001,286.2,199.95839999999998]
[23,null,{"$f":"+C279*$L$2","v":610.56000000000006},587.28239999999994,544.16160000000002,385.79759999999999,286.2,207.2088]
[24,null,{"$f":"+C280*$L$2","v":632.31119999999999},608.27040000000011,563.62320000000011,399.53519999999997,292.68720000000002,212.93280000000001]
[25,null,{"$f":"+C281*$L$2","v":642.61440000000005},617.81040000000007,572.78160000000003,406.0224,299.93759999999997,212.93280000000001]
[26,null,{"$f":"+C282*$L$2","v":652.91759999999999},628.11360000000002,582.32159999999999,412.50959999999998,306.04319999999996,220.1832]
[27,null,{"$f":"+C283*$L$2","v":664.36559999999997},638.79840000000002,591.86160000000007,419.3784,312.91199999999998,220.1832]
[28,null,{"$f":"+C284*$L$2","v":673.524},647.95680000000004,600.63840000000005,425.48399999999998,319.7808,226.28880000000001]
[29,null,{"$f":"+C285*$L$2","v":695.27520000000004},668.56320000000005,619.71839999999997,439.22159999999997,326.26800000000003,232.77600000000001]
[30,null,{"$f":"+C286*$L$2","v":716.64479999999992},689.16959999999995,638.79840000000002,452.57760000000002,333.13679999999999,240.02640000000002]
[31,null,{"$f":"+C287*$L$2","v":727.32960000000003},699.47280000000001,648.72,459.44640000000004,339.62399999999997,240.02640000000002]
[32,null,{"$f":"+C288*$L$2","v":748.31759999999997},719.69759999999997,667.03679999999997,472.80239999999998,346.1112,245.75040000000001]
[33,null,{"$f":"+C289*$L$2","v":769.30560000000003},739.54079999999999,685.73519999999996,485.39519999999999,352.98,253.0008]
[34,null,{"$f":"+C290*$L$2","v":790.67520000000002},760.1472,704.8152,498.75119999999998,365.95440000000002,259.86959999999999]
[35,null,{"$f":"+C291*$L$2","v":810.90000000000009},779.60880000000009,723.13199999999995,511.72560000000004,372.44160000000005,265.97519999999997]
[36,null,{"$f":"+C292*$L$2","v":832.65120000000002},800.59680000000003,742.21199999999999,525.46320000000003,385.79759999999999,273.22559999999999]
[37,null,{"$f":"+C293*$L$2","v":853.25759999999991},820.44,760.52880000000005,538.43759999999997,392.28480000000002,279.71280000000002]
[38,null,{"$f":"+C294*$L$2","v":885.69359999999995},851.73120000000006,789.53039999999999,559.04399999999998,406.0224,286.2]
[39,null,{"$f":"+C295*$L$2","v":916.22160000000008},881.11440000000005,817.00560000000007,578.50560000000007,419.3784,292.68720000000002]
[40,null,{"$f":"+C296*$L$2","v":937.97280000000001},901.72079999999994,836.46720000000005,591.86160000000007,425.48399999999998,299.93759999999997]
[41,null,{"$f":"+C297*$L$2","v":969.26400000000001},932.24880000000007,864.32400000000007,611.70479999999998,439.22159999999997,306.04319999999996]
[42,null,{"$f":"+C298*$L$2","v":1000.5552},962.0136,891.79919999999993,631.548,452.57760000000002,312.91199999999998]
[43,null,{"$f":"+C299*$L$2","v":1031.4648},992.54160000000002,920.0376,651.39120000000003,465.17039999999997,326.26800000000003]
[44,null,{"$f":"+C300*$L$2","v":1073.8224},1032.9911999999999,957.05280000000005,678.10320000000002,479.28960000000001,333.13679999999999]
[45,null,{"$f":"+C301*$L$2","v":1105.1135999999999},1062.7559999999999,985.67280000000005,697.94639999999993,493.02720000000005,346.1112]
[46,null,{"$f":"+C302*$L$2","v":1137.1680000000001},1093.6656,1013.9112,717.78959999999995,505.23840000000001,352.98]
[47,null,{"$f":"+C303*$L$2","v":1179.144},1134.1152000000002,1051.308,744.50160000000005,518.59440000000006,359.46720000000005]
[48,null,{"$f":"+C304*$L$2","v":1231.8047999999999},1184.8679999999999,1098.2447999999999,777.70079999999996,538.43759999999997,372.44160000000005]
[49,null,{"$f":"+C305*$L$2","v":1274.1623999999999},1225.6992,1136.0232000000001,804.7944,559.04399999999998,385.79759999999999]
[50,null,{"$f":"+C306*$L$2","v":1326.4415999999999},1276.0704000000001,1182.96,837.61199999999997,578.50560000000007,392.28480000000002]
[51,null,{"$f":"+C307*$L$2","v":1379.8656000000001},1326.8232,1230.2783999999999,871.19280000000003,598.3488000000001,406.0224]
[52,null,{"$f":"+C308*$L$2","v":1421.46},1366.8912,1267.2936,897.52319999999997,618.19200000000001,419.3784]
[53,null,{"$f":"+C309*$L$2","v":1484.424},1427.5656000000001,1323.3888000000002,936.82799999999997,638.79840000000002,432.73440000000005]
[54,null,{"$f":"+C310*$L$2","v":1548.1512},1488.6215999999999,1380.2472,977.27760000000001,664.36559999999997,439.22159999999997]
[55,null,{"$f":"+C311*$L$2","v":1610.3520000000001},1548.9144000000001,1435.5791999999999,1016.5824,684.59040000000005,452.57760000000002]
[56,null,{"$f":"+C312*$L$2","v":1674.4607999999998},1609.9703999999999,1492.8191999999999,1057.0319999999999,711.30240000000003,465.17039999999997]
[57,null,{"$f":"+C313*$L$2","v":1736.6615999999999},1670.2632000000001,1548.1512,1096.3368,738.01440000000002,479.28960000000001]
[58,null,{"$f":"+C314*$L$2","v":1832.0616},1761.8471999999999,1633.248,1156.6296,764.72640000000001,493.02720000000005]
[59,null,{"$f":"+C315*$L$2","v":1916.3951999999999},1842.7464,1708.4232000000002,1209.672,797.54399999999998,505.23840000000001]
[60,null,{"$f":"+C316*$L$2","v":1999.9656},1923.2639999999999,1782.8352,1262.7144000000001,831.12479999999994,525.46320000000003]
[61,null,{"$f":"+C317*$L$2","v":2115.9719999999998},2035.0727999999999,1886.6304,1335.9816000000001,871.19280000000003,538.43759999999997]
[62,null,{"$f":"+C318*$L$2","v":2273.9544000000001},2186.9495999999999,2027.0592000000001,1435.1976000000002,931.10400000000004,564.76800000000003]
[63,null,{"$f":"+C319*$L$2","v":2495.6640000000002},2399.5007999999998,2224.3464000000004,1575.2447999999999,1016.5824,591.86160000000007]
[64,null,{"$f":"+C320*$L$2","v":2800.1808000000001},2692.9512,2496.4272000000001,1767.5712000000001,1136.7864000000002,631.548]
[65,null,{"$f":"+C321*$L$2","v":3189.7943999999998},3067.3008,2843.6831999999999,2013.3216,1289.4264000000001,691.45920000000001]
[66,null,{"$f":"+C322*$L$2","v":3663.36},3522.9312,3265.7328000000002,2312.1143999999999,1468.7783999999999,764.72640000000001]
[67,null,{"$f":"+C323*$L$2","v":4210.9560000000001},4049.5391999999997,3753.7991999999999,2658.2255999999998,1674.8424,864.32400000000007]
[68,null,{"$f":"+C324*$L$2","v":4789.4615999999996},4605.9120000000003,4269.7224000000006,3023.0352000000003,1900.3679999999999,970.40880000000004]
[69,null,{"$f":"+C325*$L$2","v":5399.2583999999997},5192.8128000000006,4813.5024000000003,3408.4512,2139.6312000000003,1090.2311999999999]
[70,null,{"$f":"+C326*$L$2","v":6051.7943999999998},5820.1632,5395.4423999999999,3820.1976000000004,2405.6064000000001,1216.5408000000002]
[71,null,{"$f":"+C327*$L$2","v":6736.3847999999998},6478.0415999999996,6005.2392,4251.7871999999998,2684.1743999999999,1349.3376000000001]
[72,null,{"$f":"+C328*$L$2","v":7451.8848000000007},7166.0663999999997,6643.2744000000002,4703.6016,2982.9672,1488.6215999999999]
[73,null,{"$f":"+C329*$L$2","v":8209.742400000001},7895.6855999999998,7319.0880000000006,5182.1280000000006,3301.9848000000002,1635.1559999999999]
[74,null,{"$f":"+C330*$L$2","v":8998.8912},8654.3063999999995,8022.3768,5680.4976000000006,3641.2272000000003,1780.9272000000001]
[75,null,{"$f":"+C331*$L$2","v":9819.7127999999993},9443.4552000000003,8754.2856000000011,6198.3288000000002,3999.9312,1933.5672]
[76,null,{"$f":"+C332*$L$2","v":10672.5888},10263.895200000001,9514.8144000000011,6736.7663999999995,4378.4784,2093.076]
[77,null,{"$f":"+C333*$L$2","v":11555.9928},11113.7184,10302.436799999999,7294.2839999999997,4776.8688000000002,2259.0720000000001]
[78,null,{"$f":"+C334*$L$2","v":12482.517599999999},12004.372799999999,11128.2192,7878.8952000000008,5195.4839999999995,2425.4495999999999]
[79,null,{"$f":"+C335*$L$2","v":13439.951999999999},12925.555200000001,11981.858399999999,8483.3495999999996,5627.0735999999997,2604.8016000000002]
[80,"o mas",{"$f":"+C336*$L$2","v":14429.822399999999},13877.265600000001,12864.1176,9108.4104000000007,6085.7568000000001,2778.0479999999998]
[1,"Hijo",{"$f":"+C337*$L$2","v":242.316},233.1576,216.36720000000003,153.02159999999998,127.836,100.7424]
[2,"Hijos",{"$f":"+C338*$L$2","v":380.0736},365.57280000000003,338.86080000000004,240.02640000000002,199.95839999999998,157.98240000000001]
[3,"Hijos o más",{"$f":"+C339*$L$2","v":547.97760000000005},526.9896,488.44799999999998,346.1112,288.4896,227.43360000000001]
[1,"Rider Comp. Maternidad",{"$f":"+C340*$L$2","v":119.25},119.25,119.25,0,0,0]
[1,"Transplante de organos",{"$f":"+C341*$L$2","v":159},159,159,159,159,159]
[null,"Deductible Waiver",{"$f":"+C342*$L$2","v":0},95.4,182.85000000000002,410.75,704.90000000000009,1102.4000000000001]
[]
["ADVANTAGE (LATINAMERICA ONLY)"]
["TARIFAS ANUALES"]
["EDAD"]
[" "," ","AL1","AL2","AL3","AL4","AL5","AL6"]
[18,"-  24",2323,3529,2653,2029,1555,1231]
[25,"-  29",2595,3931,2960,2256,1736,1363]
[30,"-  34",3035,4550,3480,2690,2059,1587]
[35,"-  39",3425,5045,3876,2993,2348,1760]
[40,"-  44",3878,5694,4395,3396,2625,1992]
[45,"-  49",4483,6617,5063,3827,2988,2317]
[50,"-  54",5074,7252,5692,4463,3354,2545]
[55,"-  59",5880,8569,6573,4936,3891,3010]
[60,null,6256,9468,7278,5429,4290,3333]
[61,null,7042,10658,8188,6113,4832,3756]
[62,null,7827,11845,9109,6796,5373,4175]
[63,null,8613,13033,10021,7480,5914,4598]
[64,null,9397,14223,10937,8165,6457,5014]
[65,null,10323,15378,11902,8897,7032,5708]
[66,null,10933,16284,12602,9424,7448,6051]
[67,null,12149,18099,14009,10474,8283,6725]
[68,null,13367,19911,15411,11526,9115,7400]
[69,null,13974,20818,16114,12048,9529,7741]
[70,null,14272,21084,16371,12234,9708,7843]
[71,null,16060,23726,18422,13767,10928,8825]
[72,null,17843,26369,20478,15303,12144,9810]
[73,null,19631,29008,22530,16836,13363,10795]
[74,null,21416,31650,24579,18368,14581,11779]
[75,"o más",23387,34622,27408,21070,15964,13516]
[1,"Hijo",960,1572,1121,886,784,569]
[2,"Hijos",1478,2567,1768,1402,1246,837]
[3,"Hijos o más",2155,3757,2580,2048,1803,1269]
[1,"Rider Comp. Maternidad",225,225,225,225,225,225]
[1,"Transplante de organos",250,300,300,300,300,300]
[]
["TARIFAS SEMESTRALES "]
["EDAD"]
[" "," ","AL1","AL2","AL3","AL4","AL5","AL6"]
[18,"-  24",{"$f":"+C420*$L$2","v":1231.19},1870.3700000000001,1406.0900000000001,1075.3700000000001,824.15000000000009,652.43000000000006]
[25,"-  29",1375.3500000000001,2083.4300000000003,1568.8000000000002,1195.68,920.08,722.39]
[30,"-  34",1608.5500000000002,2411.5,1844.4,1425.7,1091.27,841.11]
[35,"-  39",1815.25,2673.85,2054.2800000000002,1586.2900000000002,1244.44,932.80000000000007]
[40,"-  44",2055.34,3017.82,2329.35,1799.88,1391.25,1055.76]
[45,"-  49",2375.9900000000002,3507.01,2683.3900000000003,2028.3100000000002,1583.64,1228.01]
[50,"-  54",2689.2200000000003,3843.5600000000004,3016.76,2365.3900000000003,1777.6200000000001,1348.8500000000001]
[55,"-  59",3116.4,4541.5700000000006,3483.69,2616.08,2062.23,1595.3000000000002]
[60,null,3315.6800000000003,5018.04,3857.34,2877.3700000000003,2273.7000000000003,1766.49]
[61,null,3732.26,5648.7400000000007,4339.6400000000003,3239.8900000000003,2560.96,1990.68]
[62,null,{"$f":"+C430*$L$2","v":4148.3100000000004},6277.85,4827.7700000000004,3601.88,2847.69,2212.75]
[63,null,4564.8900000000003,6907.4900000000007,5311.13,3964.4,3134.42,2436.94]
[64,null,4980.41,7538.1900000000005,5796.6100000000006,4327.45,3422.21,2657.42]
[65,null,5471.1900000000005,8150.34,6308.06,4715.41,3726.96,3025.2400000000002]
[66,null,5794.4900000000007,8630.52,6679.06,4994.72,3947.44,3207.03]
[67,null,6438.97,9592.4700000000012,7424.77,5551.22,4389.99,3564.25]
[68,null,7084.51,10552.83,8167.8300000000008,6108.7800000000007,4830.95,3922]
[69,null,7406.22,11033.54,8540.42,6385.4400000000005,5050.37,4102.7300000000005]
[70,null,7564.1600000000008,11174.52,8676.630000000001,6484.02,5145.2400000000007,4156.79]
[71,null,8511.8000000000011,12574.78,9763.66,7296.51,5791.84,4677.25]
[72,null,{"$f":"+C440*$L$2","v":9456.7900000000009},13975.570000000002,10853.34,8110.59,6436.3200000000006,5199.3]
[73,null,10404.43,15374.240000000002,11940.900000000001,8923.08,7082.39,5721.35]
[74,null,11350.480000000001,16774.5,13026.87,9735.0400000000009,7727.93,6242.87]
[75,"o más",12395.11,18349.66,14526.240000000002,11167.1,8460.92,7163.4800000000005]
[1,"Hijo",508.8,833.16000000000008,594.13,469.58000000000004,415.52000000000004,301.57]
[2,"Hijos",783.34,1360.51,937.04000000000008,743.06000000000006,660.38,443.61]
[3,"Hijos o más",1142.1500000000001,1991.21,1367.4,1085.44,955.59,672.57]
[1,"Rider Comp. Maternidad",119.25,119.25,119.25,119.25,119.25,119.25]
[1,"Transplante de organos",132.5,159,159,159,159,159]
[]
["CLASSIC GUATEMALA"]
["TARIFAS ANUALES",null,null,null,null,null,null,null,"OK"]
["EDAD",null,null,null,null,null,null,null,null,null,null,"Pegar cifras aquí"]
[" "," ","SE1","SE2","SE3","SE4","SE5","SE6",null,null,null,"SE1","SE2","SE3","SE4","SE5","SE6",null,null,"SE2","SE3","SE4","SE5","SE6"]
[18,null,{"$f":"L487*$L$6","v":0},{"$f":"T487","v":2725.95},{"$f":"U487","v":2112.25},1380.3999999999999,1013.1999999999999,712.3,null,null,null,null,3207,2485,1624,1192,838,null,null,{"$f":"(M487)*0.85","v":2725.95},{"$f":"(N487)*0.85","v":2112.25},1380.3999999999999,1013.1999999999999,712.3]
[19,null,{"$f":"L488*$L$6","v":0},{"$f":"T488","v":2780.35},{"$f":"U488","v":2139.4499999999998},{"$f":"V488","v":1406.75},{"$f":"W488","v":1013.1999999999999},{"$f":"X488","v":734.4},null,null,null,null,3271,2517,1655,1192,864,null,null,{"$f":"(M488)*0.85","v":2780.35},{"$f":"(N488)*0.85","v":2139.4499999999998},{"$f":"(O488)*0.85","v":1406.75},{"$f":"(P488)*0.85","v":1013.1999999999999},{"$f":"(Q488)*0.85","v":734.4}]
[20,null,0,2805,2191.2999999999997,1433.1,1040.3999999999999,734.4,null,null,null,null,3300,2578,1686,1224,864,null,null,2805,2191.2999999999997,1433.1,1040.3999999999999,734.4]
[21,null,0,2859.4,2248.25,1458.6,1065.05,761.6,null,null,null,null,3364,2645,1716,1253,896,null,null,2859.4,2248.25,1458.6,1065.05,761.6]
[22,null,0,2915.5,2300.9499999999998,1484.95,1090.55,761.6,null,null,null,null,3430,2707,1747,1283,896,null,null,2915.5,2300.9499999999998,1484.95,1090.55,761.6]
[23,null,0,2940.15,2324.75,1508.75,1090.55,788.8,null,null,null,null,3459,2735,1775,1283,928,null,null,2940.15,2324.75,1508.75,1090.55,788.8]
[24,null,0,2992.85,2380.85,1563.1499999999999,1115.2,810.9,null,null,null,null,3521,2801,1839,1312,954,null,null,2992.85,2380.85,1563.1499999999999,1115.2,810.9]
[25,null,0,3047.25,2432.6999999999998,1587.8,1142.3999999999999,810.9,null,null,null,null,3585,2862,1868,1344,954,null,null,3047.25,2432.6999999999998,1587.8,1142.3999999999999,810.9]
[26,null,0,3101.65,2486.25,1614.1499999999999,1165.3499999999999,838.1,null,null,null,null,3649,2925,1899,1371,986,null,null,3101.65,2486.25,1614.1499999999999,1165.3499999999999,838.1]
[27,null,0,3127.15,2538.9499999999998,1642.2,1191.7,838.1,null,null,null,null,3679,2987,1932,1402,986,null,null,3127.15,2538.9499999999998,1642.2,1191.7,838.1]
[28,null,0,3206.2,2593.35,1665.1499999999999,1216.3499999999999,861.9,null,null,null,null,3772,3051,1959,1431,1014,null,null,3206.2,2593.35,1665.1499999999999,1216.3499999999999,861.9]
[29,null,0,3260.6,2646.9,1717.85,1241,885.69999999999993,null,null,null,null,3836,3114,2021,1460,1042,null,null,3260.6,2646.9,1717.85,1241,885.69999999999993]
[30,null,0,3341.35,2725.95,1770.55,1268.2,913.75,null,null,null,null,3931,3207,2083,1492,1075,null,null,3341.35,2725.95,1770.55,1268.2,913.75]
[31,null,0,3393.2,2780.35,1797.75,1294.55,913.75,null,null,null,null,3992,3271,2115,1523,1075,null,null,3393.2,2780.35,1797.75,1294.55,913.75]
[32,null,0,3473.95,2859.4,1849.6,1317.5,935.85,null,null,null,null,4087,3364,2176,1550,1101,null,null,3473.95,2859.4,1849.6,1317.5,935.85]
[33,null,0,3554.7,2940.15,1900.6,1343.85,964.75,null,null,null,null,4182,3459,2236,1581,1135,null,null,3554.7,2940.15,1900.6,1343.85,964.75]
[34,null,0,3635.45,3022.6,1953.3,1394,989.4,null,null,null,null,4277,3556,2298,1640,1164,null,null,3635.45,3022.6,1953.3,1394,989.4]
[35,null,0,3743.4,3101.65,2004.3,1418.6499999999999,1013.1999999999999,null,null,null,null,4404,3649,2358,1669,1192,null,null,3743.4,3101.65,2004.3,1418.6499999999999,1013.1999999999999]
[36,null,0,3821.6,3181.5499999999997,2057,1467.95,1040.3999999999999,null,null,null,null,4496,3743,2420,1727,1224,null,null,3821.6,3181.5499999999997,2057,1467.95,1040.3999999999999]
[37,null,0,3901.5,3260.6,2108.85,1494.3,1065.05,null,null,null,null,4590,3836,2481,1758,1253,null,null,3901.5,3260.6,2108.85,1494.3,1065.05]
[38,null,0,4008.6,3367.7,2188.75,1544.45,1090.55,null,null,null,null,4716,3962,2575,1817,1283,null,null,4008.6,3367.7,2188.75,1544.45,1090.55]
[39,null,0,4116.55,3473.95,2263.5499999999997,1598,1115.2,null,null,null,null,4843,4087,2663,1880,1312,null,null,4116.55,3473.95,2263.5499999999997,1598,1115.2]
[40,null,0,4249.1499999999996,3554.7,2317.9499999999998,1620.1,1142.3999999999999,null,null,null,null,4999,4182,2727,1906,1344,null,null,4249.1499999999996,3554.7,2317.9499999999998,1620.1,1142.3999999999999]
[41,null,0,4354.55,3663.5,2395.2999999999997,1671.95,1165.3499999999999,null,null,null,null,5123,4310,2818,1967,1371,null,null,4354.55,3663.5,2395.2999999999997,1671.95,1165.3499999999999]
[42,null,null,4463.3499999999995,3767.2,2471.7999999999997,1722.95,1191.7,null,null,null,null,5251,4432,2908,2027,1402,null,null,4463.3499999999995,3767.2,2471.7999999999997,1722.95,1191.7]
[43,null,null,4597.6499999999996,3901.5,2550,1773.1,1241,null,null,null,null,5409,4590,3000,2086,1460,null,null,4597.6499999999996,3901.5,2550,1773.1,1241]
[44,null,null,4730.25,4008.6,2653.7,1824.95,1268.2,null,null,null,null,5565,4716,3122,2147,1492,null,null,4730.25,4008.6,2653.7,1824.95,1268.2]
[45,null,null,4862.8499999999995,4142.05,2731.0499999999997,1876.8,1317.5,null,null,null,null,5721,4873,3213,2208,1550,null,null,4862.8499999999995,4142.05,2731.0499999999997,1876.8,1317.5]
[46,null,null,4998,4276.3499999999995,2810.1,1926.1,1343.85,null,null,null,null,5880,5031,3306,2266,1581,null,null,4998,4276.3499999999995,2810.1,1926.1,1343.85]
[47,null,null,5130.5999999999995,4383.45,2914.65,1976.25,1369.35,null,null,null,null,6036,5157,3429,2325,1611,null,null,5130.5999999999995,4383.45,2914.65,1976.25,1369.35]
[48,null,null,5343.95,4569.5999999999995,3043.85,2051.9,1418.6499999999999,null,null,null,null,6287,5376,3581,2414,1669,null,null,5343.95,4569.5999999999995,3043.85,2051.9,1418.6499999999999]
[49,null,null,5530.95,4730.25,3149.25,2130.1,1467.95,null,null,null,null,6507,5565,3705,2506,1727,null,null,5530.95,4730.25,3149.25,2130.1,1467.95]
[50,null,null,5718.8,4890.8999999999996,3279.2999999999997,2203.1999999999998,1494.3,null,null,null,null,6728,5754,3858,2592,1758,null,null,5718.8,4890.8999999999996,3279.2999999999997,2203.1999999999998,1494.3]
[51,null,null,5904.95,5075.3499999999995,3410.2,2279.6999999999998,1544.45,null,null,null,null,6947,5971,4012,2682,1817,null,null,5904.95,5075.3499999999995,3410.2,2279.6999999999998,1544.45]
[52,null,null,6091.95,5236.8499999999995,3513.0499999999997,2355.35,1598,null,null,null,null,7167,6161,4133,2771,1880,null,null,6091.95,5236.8499999999995,3513.0499999999997,2355.35,1598]
[53,null,null,6333.3499999999995,5450.2,3668.6,2431.85,1647.3,null,null,null,null,7451,6412,4316,2861,1938,null,null,6333.3499999999995,5450.2,3668.6,2431.85,1647.3]
[54,null,null,6573.05,5666.0999999999995,3825.85,2530.4499999999998,1671.95,null,null,null,null,7733,6666,4501,2977,1967,null,null,6573.05,5666.0999999999995,3825.85,2530.4499999999998,1671.95]
[55,null,null,6813.5999999999995,5880.3,3980.5499999999997,2607.7999999999997,1722.95,null,null,null,null,8016,6918,4683,3068,2027,null,null,6813.5999999999995,5880.3,3980.5499999999997,2607.7999999999997,1722.95]
[56,null,null,7053.3,6091.95,4136.95,2708.95,1773.1,null,null,null,null,8298,7167,4867,3187,2086,null,null,7053.3,6091.95,4136.95,2708.95,1773.1]
[57,null,null,7294.7,6305.3,4292.5,2811.7999999999997,1824.95,null,null,null,null,8582,7418,5050,3308,2147,null,null,7294.7,6305.3,4292.5,2811.7999999999997,1824.95]
[58,null,null,7615.15,6573.05,4527.0999999999995,2912.1,1876.8,null,null,null,null,8959,7733,5326,3426,2208,null,null,7615.15,6573.05,4527.0999999999995,2912.1,1876.8]
[59,null,null,7907.55,6838.25,4735.3499999999995,3037.9,1926.1,null,null,null,null,9303,8045,5571,3574,2266,null,null,7907.55,6838.25,4735.3499999999995,3037.9,1926.1]
[60,null,null,8230.5499999999993,7134.9,4942.75,3165.4,2001.75,null,null,null,null,9683,8394,5815,3724,2355,null,null,8230.5499999999993,7134.9,4942.75,3165.4,2001.75]
[61,null,null,8683.6,7507.2,5230.05,3317.5499999999997,2051.9,null,null,null,null,10216,8832,6153,3903,2414,null,null,8683.6,7507.2,5230.05,3317.5499999999997,2051.9]
[62,null,null,9270.9499999999989,8040.15,5619.3499999999995,3546.2,2152.1999999999998,null,null,null,null,10907,9459,6611,4172,2532,null,null,9270.9499999999989,8040.15,5619.3499999999995,3546.2,2152.1999999999998]
[63,null,null,10150.699999999999,8791.5499999999993,6166.75,3872.6,2255.9,null,null,null,null,11942,10343,7255,4556,2654,null,null,10150.699999999999,8791.5499999999993,6166.75,3872.6,2255.9]
[64,null,null,11352.6,9832.7999999999993,6919,4329.05,2405.5,null,null,null,null,13356,11568,8140,5093,2830,null,null,11352.6,9832.7999999999993,6919,4329.05,2405.5]
[65,null,null,12903.85,11169,7882.05,4910.45,2634.15,null,null,null,null,15181,13140,9273,5777,3099,null,null,12903.85,11169,7882.05,4910.45,2634.15]
[66,null,null,14800.199999999999,12850.3,9051.65,5593.8499999999995,2912.1,null,null,null,null,17412,15118,10649,6581,3426,null,null,14800.199999999999,12850.3,9051.65,5593.8499999999995,2912.1]
[67,null,null,16937.95,14744.1,10405.699999999999,6379.25,3291.2,null,null,null,null,19927,17346,12242,7505,3872,null,null,16937.95,14744.1,10405.699999999999,6379.25,3291.2]
[68,null,null,19232.95,16802.8,11835.4,7240.3,3696.65,null,null,null,null,22627,19768,13924,8518,4349,null,null,19232.95,16802.8,11835.4,7240.3,3696.65]
[69,null,null,21637.599999999999,18967.75,13343.3,8148.95,4153.0999999999995,null,null,null,null,25456,22315,15698,9587,4886,null,null,21637.599999999999,18967.75,13343.3,8148.95,4153.0999999999995]
[70,null,null,24122.149999999998,21181.149999999998,14954.05,9163.85,4633.3499999999995,null,null,null,null,28379,24919,17593,10781,5451,null,null,24122.149999999998,21181.149999999998,14954.05,9163.85,4633.3499999999995]
[71,null,null,26686.6,23505.05,16645.55,10223.799999999999,5139.0999999999995,null,null,null,null,31396,27653,19583,12028,6046,null,null,26686.6,23505.05,16645.55,10223.799999999999,5139.0999999999995]
[72,null,null,29327.55,25857,18414.399999999998,11361.1,5670.3499999999995,null,null,null,null,34503,30420,21664,13366,6671,null,null,29327.55,25857,18414.399999999998,11361.1,5670.3499999999995]
[73,null,null,32026.3,28287.149999999998,20286.95,12577.449999999999,6227.0999999999995,null,null,null,null,37678,33279,23867,14797,7326,null,null,32026.3,28287.149999999998,20286.95,12577.449999999999,6227.0999999999995]
[74,null,null,34750.549999999996,30772.55,22236.85,13868.6,6783,null,null,null,null,40883,36203,26161,16316,7980,null,null,34750.549999999996,30772.55,22236.85,13868.6,6783]
[75,null,null,37553.85,33281.75,24264.95,15235.4,7366.0999999999995,null,null,null,null,44181,39155,28547,17924,8666,null,null,37553.85,33281.75,24264.95,15235.4,7366.0999999999995]
[76,null,null,40386.9,35844.5,26372.95,16677.849999999999,7972.15,null,null,null,null,47514,42170,31027,19621,9379,null,null,40386.9,35844.5,26372.95,16677.849999999999,7972.15]
[77,null,null,43270.1,38435.299999999996,28555.75,18195.099999999999,8603.6999999999989,null,null,null,null,50906,45218,33595,21406,10122,null,null,43270.1,38435.299999999996,28555.75,18195.099999999999,8603.6999999999989]
[78,null,null,46181.35,41080.5,30845.649999999998,19788.849999999999,9239.5,null,null,null,null,54331,48330,36289,23281,10870,null,null,46181.35,41080.5,30845.649999999998,19788.849999999999,9239.5]
[79,null,null,49121.5,43724.85,33211.199999999997,21434.45,9921.1999999999989,null,null,null,null,57790,51441,39072,25217,11672,null,null,49121.5,43724.85,33211.199999999997,21434.45,9921.1999999999989]
[80,"o mas",null,52083.75,46423.6,35656.65,23180.35,10580.8,null,null,null,null,61275,54616,41949,27271,12448,null,null,52083.75,46423.6,35656.65,23180.35,10580.8]
[1,"Hijo",null,1390.6,804.1,599.25,431.8,306,null,null,null,null,1636,946,705,508,360,null,null,{"$f":"(M550)*0.85","v":1390.6},{"$f":"(N550)*0.85","v":804.1},{"$f":"(O550)*0.85","v":599.25},{"$f":"(P550)*0.85","v":431.8},{"$f":"(Q550)*0.85","v":306}]
[2,"Hijos",null,{"$f":"T551","v":2324.75},{"$f":"U551","v":1206.1499999999999},{"$f":"V551","v":939.25},{"$f":"W551","v":662.15},{"$f":"X551","v":458.15},null,null,null,null,2735,1419,1105,779,539,null,null,2324.75,1206.1499999999999,939.25,662.15,458.15]
[3,"Hijos o más",null,3421.25,1738.25,1354.05,964.75,685.1,null,null,null,null,4025,2045,1593,1135,806,null,null,{"$f":"(M552)*0.85","v":3421.25},{"$f":"(N552)*0.85","v":1738.25},{"$f":"(O552)*0.85","v":1354.05},{"$f":"(P552)*0.85","v":964.75},{"$f":"(Q552)*0.85","v":685.1}]
[1,"Rider Comp. Maternidad",null,225,225,225,225,225,null,null,null,null,225,225,225,225,225,null,null,{"$f":"M553*0.85","v":191.25},{"$f":"N553*0.85","v":191.25},191.25,191.25,191.25]
[1,"Transplante de organos",null,300,300,300,300,300,null,null,null,null,300,300,300,300,300,null,null,{"$f":"M554*0.85","v":255},{"$f":"N554*0.85","v":255},{"$f":"O554*0.85","v":255},{"$f":"P554*0.85","v":255},{"$f":"Q554*0.85","v":255}]
[null,"Deductible Waiver",null,180,345,775,1330,2080,null,null,null,null,180,345,775,1330,2080,null,null,153,293.25,658.75,1130.5,1768]
["TARIFAS SEMESTRALES "]
["EDAD",null,null,null,null,null,null,null,"PENDIENTE"]
[" "," ","SE1","SE2","SE3","SE4","SE5","SE6"]
[18,null,{"$f":"+C487*$L$2","v":0},1444.7535,1119.4925000000001,731.61199999999997,536.99599999999998,377.51900000000001]
[19,null,{"$f":"+C488*$L$2","v":0},1473.5855000000001,1133.9085,745.57749999999999,536.99599999999998,389.23200000000003]
[20,null,{"$f":"+C489*$L$2","v":0},1486.65,1161.3889999999999,759.54300000000001,551.41199999999992,389.23200000000003]
[21,null,{"$f":"+C490*$L$2","v":0},1515.4820000000002,1191.5725,773.05799999999999,564.47649999999999,403.64800000000002]
[22,null,{"$f":"+C491*$L$2","v":0},1545.2150000000001,1219.5035,787.02350000000001,577.99149999999997,403.64800000000002]
[23,null,{"$f":"+C492*$L$2","v":0},1558.2795000000001,1232.1175000000001,799.63750000000005,577.99149999999997,418.06400000000002]
[24,null,{"$f":"+C493*$L$2","v":0},1586.2105000000001,1261.8505,828.46949999999993,591.05600000000004,429.77699999999999]
[25,null,{"$f":"+C494*$L$2","v":0},1615.0425,1289.3309999999999,841.53399999999999,605.47199999999998,429.77699999999999]
[26,null,{"$f":"+C495*$L$2","v":0},1643.8745000000001,1317.7125000000001,855.49950000000001,617.63549999999998,444.19300000000004]
[27,null,{"$f":"+C496*$L$2","v":0},1657.3895000000002,1345.6434999999999,870.3660000000001,631.601,444.19300000000004]
[28,null,{"$f":"+C497*$L$2","v":0},1699.2860000000001,1374.4755,882.52949999999998,644.66549999999995,456.80700000000002]
[29,null,{"$f":"+C498*$L$2","v":0},1728.1179999999999,1402.8570000000002,910.46050000000002,657.73,469.42099999999999]
[30,null,{"$f":"+C499*$L$2","v":0},1770.9155000000001,1444.7535,938.39150000000006,672.14600000000007,484.28750000000002]
[31,null,{"$f":"+C500*$L$2","v":0},1798.396,1473.5855000000001,952.8075,686.11149999999998,484.28750000000002]
[32,null,{"$f":"+C501*$L$2","v":0},1841.1935000000001,1515.4820000000002,980.28800000000001,698.27500000000009,496.00050000000005]
[33,null,{"$f":"+C502*$L$2","v":0},1883.991,1558.2795000000001,1007.318,712.2405,511.31750000000005]
[34,null,{"$f":"+C503*$L$2","v":0},1926.7885000000001,1601.9780000000001,1035.249,738.82,524.38200000000006]
[35,null,{"$f":"+C504*$L$2","v":0},1984.0020000000002,1643.8745000000001,1062.279,751.8845,536.99599999999998]
[36,null,{"$f":"+C505*$L$2","v":0},2025.4480000000001,1686.2214999999999,1090.21,778.01350000000002,551.41199999999992]
[37,null,{"$f":"+C506*$L$2","v":0},2067.7950000000001,1728.1179999999999,1117.6904999999999,791.97900000000004,564.47649999999999]
[38,null,{"$f":"+C507*$L$2","v":0},2124.558,1784.8810000000001,1160.0375000000001,818.55850000000009,577.99149999999997]
[39,null,{"$f":"+C508*$L$2","v":0},2181.7715000000003,1841.1935000000001,1199.6814999999999,846.94,591.05600000000004]
[40,null,{"$f":"+C509*$L$2","v":0},2252.0495000000001,1883.991,1228.5135,858.65300000000002,605.47199999999998]
[41,null,{"$f":"+C510*$L$2","v":0},2307.9115000000002,1941.6550000000002,1269.509,886.13350000000003,617.63549999999998]
[42,null,null,{"$f":"+D511*$L$2","v":2365.5754999999999},1996.616,1310.0539999999999,913.16350000000011,631.601]
[43,null,null,{"$f":"+D512*$L$2","v":2436.7545},2067.7950000000001,1351.5,939.74300000000005,657.73]
[44,null,null,{"$f":"+D513*$L$2","v":2507.0325000000003},2124.558,1406.461,967.22350000000006,672.14600000000007]
[45,null,null,{"$f":"+D514*$L$2","v":2577.3105},2195.2865000000002,1447.4565,994.70400000000006,698.27500000000009]
[46,null,null,{"$f":"+D515*$L$2","v":2648.94},2266.4654999999998,1489.3530000000001,1020.833,712.2405]
[47,null,null,{"$f":"+D516*$L$2","v":2719.2179999999998},2323.2285000000002,1544.7645000000002,1047.4125000000001,725.75549999999998]
[48,null,null,{"$f":"+D517*$L$2","v":2832.2935000000002},2421.8879999999999,1613.2405000000001,1087.5070000000001,751.8845]
[49,null,null,{"$f":"+D518*$L$2","v":2931.4034999999999},2507.0325000000003,1669.1025000000002,1128.953,778.01350000000002]
[50,null,null,{"$f":"+D519*$L$2","v":3030.9640000000004},2592.1770000000001,1738.029,1167.6959999999999,791.97900000000004]
[51,null,null,{"$f":"+D520*$L$2","v":3129.6235000000001},2689.9355,1807.4059999999999,1208.241,818.55850000000009]
[52,null,null,{"$f":"+D521*$L$2","v":3228.7335000000003},2775.5304999999998,1861.9165,1248.3354999999999,846.94]
[53,null,null,{"$f":"+D522*$L$2","v":3356.6754999999998},2888.6060000000002,1944.3579999999999,1288.8805,873.06900000000007]
[54,null,null,{"$f":"+D523*$L$2","v":3483.7165000000005},3003.0329999999999,2027.7005000000001,1341.1385,886.13350000000003]
[55,null,null,{"$f":"+D524*$L$2","v":3611.2080000000001},3116.5590000000002,2109.6914999999999,1382.134,913.16350000000011]
[56,null,null,{"$f":"+D525*$L$2","v":3738.2490000000003},3228.7335000000003,2192.5835000000002,1435.7435,939.74300000000005]
[57,null,null,{"$f":"+D526*$L$2","v":3866.1910000000003},3341.8090000000002,2275.0250000000001,1490.2539999999999,967.22350000000006]
[58,null,null,{"$f":"+D527*$L$2","v":4036.0295000000001},3483.7165000000005,2399.3629999999998,1543.413,994.70400000000006]
[59,null,null,{"$f":"+D528*$L$2","v":4191.0015000000003},3624.2725,2509.7354999999998,1610.0870000000002,1020.833]
[60,null,null,{"$f":"+D529*$L$2","v":4362.1914999999999},3781.4969999999998,2619.6575000000003,1677.662,1060.9275]
[61,null,null,{"$f":"+D530*$L$2","v":4602.308},3978.8160000000003,2771.9265,1758.3015,1087.5070000000001]
[62,null,null,{"$f":"+D531*$L$2","v":4913.6034999999993},4261.2794999999996,2978.2554999999998,1879.4860000000001,1140.6659999999999]
[63,null,null,{"$f":"+D532*$L$2","v":5379.8710000000001},4659.5214999999998,3268.3775000000001,2052.4780000000001,1195.6270000000002]
[64,null,null,{"$f":"+D533*$L$2","v":6016.8780000000006},5211.384,3667.07,2294.3965000000003,1274.915]
[65,null,null,{"$f":"+D534*$L$2","v":6839.040500000001},5919.5700000000006,4177.4865,2602.5385000000001,1396.0995]
[66,null,null,{"$f":"+D535*$L$2","v":7844.1059999999998},6810.6589999999997,4797.3744999999999,2964.7404999999999,1543.413]
[67,null,null,{"$f":"+D536*$L$2","v":8977.1135000000013},7814.3730000000005,5515.0209999999997,3381.0025000000001,1744.336]
[68,null,null,{"$f":"+D537*$L$2","v":10193.463500000002},8905.4840000000004,6272.7619999999997,3837.3590000000004,1959.2245]
[69,null,null,{"$f":"+D538*$L$2","v":11467.928},10052.907500000001,7071.9489999999996,4318.9435000000003,2201.143]
[70,null,null,{"$f":"+D539*$L$2","v":12784.7395},11226.0095,7925.6464999999998,4856.8405000000002,2455.6754999999998]
[71,null,null,{"$f":"+D540*$L$2","v":14143.897999999999},12457.6765,8822.1414999999997,5418.6139999999996,2723.723]
[72,null,null,{"$f":"+D541*$L$2","v":15543.601500000001},13704.210000000001,9759.6319999999996,6021.3830000000007,3005.2855]
[73,null,null,{"$f":"+D542*$L$2","v":16973.939000000002},14992.1895,10752.083500000001,6666.0484999999999,3300.3629999999998]
[74,null,null,{"$f":"+D543*$L$2","v":18417.791499999999},16309.451500000001,11785.530499999999,7350.3580000000002,3594.9900000000002]
[75,null,null,{"$f":"+D544*$L$2","v":19903.540499999999},17639.327499999999,12860.423500000001,8074.7620000000006,3904.0329999999999]
[76,null,null,{"$f":"+D545*$L$2","v":21405.057000000001},18997.585000000003,13977.663500000001,8839.2605000000003,4225.2394999999997]
[77,null,null,{"$f":"+D546*$L$2","v":22933.153000000002},20370.708999999999,15134.547500000001,9643.4030000000002,4559.9609999999993]
[78,null,null,{"$f":"+D547*$L$2","v":24476.1155},21772.665000000001,16348.1945,10488.0905,4896.9350000000004]
[79,null,null,{"$f":"+D548*$L$2","v":26034.395},23174.1705,17601.935999999998,11360.258500000002,5258.2359999999999]
[80,"o mas",null,{"$f":"+D549*$L$2","v":27604.387500000001},24604.508000000002,18898.024500000003,12285.585499999999,5607.8239999999996]
[1,"Hijo",{"$f":"+C550*$L$2","v":0},737.01800000000003,426.17300000000006,317.60250000000002,228.85400000000001,162.18]
[2,"Hijos",{"$f":"+C551*$L$2","v":0},1232.1175000000001,639.2595,497.80250000000001,350.93950000000001,242.81950000000001]
[3,"Hijos o más",{"$f":"+C552*$L$2","v":0},1813.2625,921.27250000000004,717.64650000000006,511.31750000000005,363.10300000000001]
[1,"Rider Comp. Maternidad",{"$f":"+C553*$L$2","v":0},119.25,119.25,119.25,119.25,119.25]
[1,"Transplante de organos",{"$f":"+C554*$L$2","v":0},159,159,159,159,159]
[null,"Deductible Waiver",null,{"$f":"+D555*$L$2","v":95.4},182.85000000000002,410.75,704.90000000000009,1102.4000000000001]
[]
["BUPA BLUE 500 GUATEMALA",null,null,null,null,null,null,null,"?"]
["TARIFAS ANUALES"]
["EDAD"]
[" "," ","ET1","ET2","ET3","ET4","ET5","ET6"]
[18,null,1326,1371,1193,1086,837,650]
[19,null,1471,1398,1211,1104,855,659]
[20,null,1702,1416,1229,1122,873,677]
[21,null,1883,1443,1256,1140,899,686]
[22,null,2123,1469,1273,1166,917,703]
[23,null,2461,1487,1300,1184,935,712]
[24,null,2695,1514,1318,1202,953,730]
[25,null,3185,1540,1336,1220,971,739]
[26,null,3358,1567,1362,1238,988,757]
[27,null,3780,1585,1380,1256,1015,766]
[28,null,4205,1621,1407,1282,1033,784]
[29,null,4626,1647,1434,1309,1060,801]
[30,null,5047,1674,1460,1327,1086,819]
[31,null,5068,1701,1478,1353,1104,828]
[32,null,5088,1727,1505,1371,1131,846]
[33,null,5656,1781,1549,1407,1166,873]
[34,null,6225,1825,1585,1451,1202,899]
[35,null,6508,1879,1630,1487,1238,926]
[36,null,6554,1923,1674,1523,1273,944]
[37,null,7376,1968,1710,1558,1300,971]
[38,null,8198,2021,1754,1603,1345,997]
[39,null,9021,2066,1799,1638,1380,1024]
[40,null,9842,2119,1843,1674,1416,1051]
[41,null,10752,2164,1879,1719,1451,1077]
[42,null,null,2208,1923,1754,1487,1095]
[43,null,null,2297,1995,1825,1558,1149]
[44,null,null,2386,2075,1897,1621,1193]
[45,null,null,2475,2155,1959,1683,1238]
[46,null,null,2564,2226,2030,1754,1282]
[47,null,null,2654,2306,2101,1816,1336]
[48,null,null,2743,2386,2173,1888,1380]
[49,null,null,2841,2467,2253,1950,1434]
[50,null,null,2930,2547,2324,2021,1478]
[51,null,null,3019,2627,2395,2093,1532]
[52,null,null,3117,2707,2475,2155,1576]
[53,null,null,3223,2805,2556,2244,1638]
[54,null,null,3339,2903,2645,2324,1692]
[55,null,null,3446,3001,2734,2413,1754]
[56,null,null,3553,3090,2823,2493,1808]
[57,null,null,3669,3188,2903,2582,1870]
[58,null,null,3793,3295,3001,2689,1941]
[59,null,null,3918,3410,3090,2796,2021]
[60,null,null,4052,3517,3179,2903,2093]
[61,null,null,4203,3651,3321,3010,2173]
[62,null,null,4390,3820,3482,3152,2271]
[63,null,null,4621,4016,3660,3312,2386]
[64,null,null,4880,4247,3873,3499,2520]
[65,null,null,5200,4523,4123,3767,2698]
[66,null,null,5574,4853,4425,4069,2912]
[67,null,null,6019,5236,4773,4390,3143]
[68,null,null,6536,5681,5182,4764,3410]
[69,null,null,7132,6197,5654,5200,3722]
[70,null,null,7818,6803,6144,5788,4114]
[71,null,null,8611,7489,6830,6376,4532]
[72,null,null,9528,8290,7551,7061,5022]
[73,null,null,10587,9198,8388,7836,5574]
[74,null,null,11798,10258,9350,8735,6215]
[75,null,null,13196,11469,10418,9830,6972]
[76,null,null,14790,12867,11718,11024,7818]
[77,null,null,16616,14443,13170,12377,8780]
[78,null,null,18673,16233,14799,13909,9866]
[79,null,null,20979,18236,16633,15627,11086]
[80,"o mas",null,23739,20640,18815,17684,12546]
[1,"Hijo",604,703,605,552,329,276]
[2,"Hijos",991,1184,1024,935,490,436]
[3,"Hijos o más",1452,1736,1505,1371,703,641]
[1,"Rider Comp. Maternidad",225,225,225,225,225,225]
[1,"Transplante de organos",250,300,300,300,300,300]
[]
["TARIFAS SEMESTRALES "]
["EDAD"]
[" "," ","ET1","ET2","ET3","ET4","ET5","ET6"]
[18,null,{"$f":"+C633*$L$2","v":702.78000000000009},726.63,632.29000000000008,575.58000000000004,443.61,344.5]
[19,null,779.63,740.94,641.83000000000004,585.12,453.15000000000003,349.27000000000004]
[20,null,902.06000000000006,750.48,651.37,594.66000000000008,462.69,358.81]
[21,null,997.99,764.79000000000008,665.68000000000006,604.20000000000005,476.47,363.58000000000004]
[22,null,1125.19,778.57,674.69,617.98,486.01000000000005,372.59000000000003]
[23,null,1304.3300000000002,788.11,689,627.52,495.55,377.36]
[24,null,1428.3500000000001,802.42000000000007,698.54000000000008,637.06000000000006,505.09000000000003,386.90000000000003]
[25,null,1688.0500000000002,816.2,708.08,646.6,514.63,391.67]
[26,null,1779.74,830.51,721.86,656.14,523.64,401.21000000000004]
[27,null,2003.4,840.05000000000007,731.40000000000009,665.68000000000006,537.95000000000005,405.98]
[28,null,{"$f":"+C643*$L$2","v":2228.65},859.13,745.71,679.46,547.49,415.52000000000004]
[29,null,2451.7800000000002,872.91000000000008,760.02,693.77,561.80000000000007,424.53000000000003]
[30,null,2674.9100000000003,887.22,773.80000000000007,703.31000000000006,575.58000000000004,434.07000000000005]
[31,null,2686.04,901.53000000000009,783.34,717.09,585.12,438.84000000000003]
[32,null,2696.6400000000003,915.31000000000006,797.65000000000009,726.63,599.43000000000006,448.38]
[33,null,2997.6800000000003,943.93000000000006,820.97,745.71,617.98,462.69]
[34,null,3299.25,967.25,840.05000000000007,769.03000000000009,637.06000000000006,476.47]
[35,null,3449.2400000000002,995.87,863.90000000000009,788.11,656.14,490.78000000000003]
[36,null,3473.6200000000003,1019.19,887.22,807.19,674.69,500.32000000000005]
[37,null,3909.28,1043.04,906.30000000000007,825.74,689,514.63]
[38,null,{"$f":"+C653*$L$2","v":4344.9400000000005},1071.1300000000001,929.62,849.59,712.85,528.41000000000008]
[39,null,4781.13,1094.98,953.47,868.1400000000001,731.40000000000009,542.72]
[40,null,5216.26,1123.0700000000002,976.79000000000008,887.22,750.48,557.03]
[41,null,5698.56,1146.92,995.87,911.07,769.03000000000009,570.81000000000006]
[42,null,null,{"$f":"+D657*$L$2","v":1170.24},1019.19,929.62,788.11,580.35]
[43,null,null,{"$f":"+D658*$L$2","v":1217.4100000000001},1057.3500000000001,967.25,825.74,608.97]
[44,null,null,{"$f":"+D659*$L$2","v":1264.5800000000002},1099.75,1005.4100000000001,859.13,632.29000000000008]
[45,null,null,{"$f":"+D660*$L$2","v":1311.75},1142.1500000000001,1038.27,891.99,656.14]
[46,null,null,{"$f":"+D661*$L$2","v":1358.92},1179.78,1075.9000000000001,929.62,679.46]
[47,null,null,{"$f":"+D662*$L$2","v":1406.6200000000001},1222.18,1113.53,962.48,708.08]
[48,null,null,{"$f":"+D663*$L$2","v":1453.79},1264.5800000000002,1151.69,1000.6400000000001,731.40000000000009]
[49,null,null,{"$f":"+D664*$L$2","v":1505.73},1307.51,1194.0900000000001,1033.5,760.02]
[50,null,null,{"$f":"+D665*$L$2","v":1552.9},1349.91,1231.72,1071.1300000000001,783.34]
[51,null,null,{"$f":"+D666*$L$2","v":1600.0700000000002},1392.3100000000002,1269.3500000000001,1109.29,811.96]
[52,null,null,{"$f":"+D667*$L$2","v":1652.01},1434.71,1311.75,1142.1500000000001,835.28000000000009]
[53,null,null,{"$f":"+D668*$L$2","v":1708.19},1486.65,1354.68,1189.3200000000002,868.1400000000001]
[54,null,null,{"$f":"+D669*$L$2","v":1769.67},1538.5900000000001,1401.8500000000001,1231.72,896.76]
[55,null,null,{"$f":"+D670*$L$2","v":1826.38},1590.53,1449.02,1278.8900000000001,929.62]
[56,null,null,{"$f":"+D671*$L$2","v":1883.0900000000001},1637.7,1496.19,1321.29,958.24]
[57,null,null,{"$f":"+D672*$L$2","v":1944.5700000000002},1689.64,1538.5900000000001,1368.46,991.1]
[58,null,null,{"$f":"+D673*$L$2","v":2010.2900000000002},1746.3500000000001,1590.53,1425.17,1028.73]
[59,null,null,{"$f":"+D674*$L$2","v":2076.54},1807.3000000000002,1637.7,1481.88,1071.1300000000001]
[60,null,null,{"$f":"+D675*$L$2","v":2147.56},1864.01,1684.8700000000001,1538.5900000000001,1109.29]
[61,null,null,{"$f":"+D676*$L$2","v":2227.59},1935.0300000000002,1760.13,1595.3000000000002,1151.69]
[62,null,null,{"$f":"+D677*$L$2","v":2326.7000000000003},2024.6000000000001,1845.46,1670.5600000000002,1203.6300000000001]
[63,null,null,{"$f":"+D678*$L$2","v":2449.13},2128.48,1939.8000000000002,1755.3600000000001,1264.5800000000002]
[64,null,null,{"$f":"+D679*$L$2","v":2586.4},2250.9100000000003,2052.69,1854.47,1335.6000000000001]
[65,null,null,{"$f":"+D680*$L$2","v":2756},2397.19,2185.19,1996.51,1429.94]
[66,null,null,{"$f":"+D681*$L$2","v":2954.2200000000003},2572.09,2345.25,2156.5700000000002,1543.3600000000001]
[67,null,null,{"$f":"+D682*$L$2","v":3190.07},2775.08,2529.69,2326.7000000000003,1665.7900000000002]
[68,null,null,{"$f":"+D683*$L$2","v":3464.0800000000004},3010.9300000000003,2746.46,2524.92,1807.3000000000002]
[69,null,null,{"$f":"+D684*$L$2","v":3779.96},3284.4100000000003,2996.6200000000003,2756,1972.66]
[70,null,null,{"$f":"+D685*$L$2","v":4143.54},3605.59,3256.32,3067.6400000000003,2180.42]
[71,null,null,{"$f":"+D686*$L$2","v":4563.83},3969.17,3619.9,3379.28,2401.96]
[72,null,null,{"$f":"+D687*$L$2","v":5049.84},4393.7,4002.03,3742.3300000000004,2661.6600000000003]
[73,null,null,{"$f":"+D688*$L$2","v":5611.1100000000006},4874.9400000000005,4445.6400000000003,4153.08,2954.2200000000003]
[74,null,null,{"$f":"+D689*$L$2","v":6252.9400000000005},5436.7400000000007,4955.5,4629.55,3293.9500000000003]
[75,null,null,{"$f":"+D690*$L$2","v":6993.88},6078.5700000000006,5521.54,5209.9000000000005,3695.1600000000003]
[76,null,null,{"$f":"+D691*$L$2","v":7838.7000000000007},6819.51,6210.54,5842.72,4143.54]
[77,null,null,{"$f":"+D692*$L$2","v":8806.48},7654.79,6980.1,6559.81,4653.4000000000005]
[78,null,null,{"$f":"+D693*$L$2","v":9896.69},8603.49,7843.47,7371.77,5228.9800000000005]
[79,null,null,{"$f":"+D694*$L$2","v":11118.87},9665.08,8815.49,8282.3100000000013,5875.58]
[80,"o mas",null,{"$f":"+D695*$L$2","v":12581.67},10939.2,9971.9500000000007,9372.52,6649.38]
[1,"Hijo",{"$f":"+C696*$L$2","v":320.12},372.59000000000003,320.65000000000003,292.56,174.37,146.28]
[2,"Hijos",525.23,627.52,542.72,495.55,259.7,231.08]
[3,"Hijos o más",769.56000000000006,920.08,797.65000000000009,726.63,372.59000000000003,339.73]
[1,"Rider Comp. Maternidad",119.25,119.25,119.25,119.25,119.25,119.25]
[1,"Transplante de organos",132.5,159,159,159,159,159]
[]
["BUPA BLUE 100 GUATEMALA",null,null,null,null,null,null,null,"?"]
["TARIFAS ANUALES"]
["EDAD"]
[" "," ","ET1","ET2","ET3","ET4","ET5","ET6"]
[18,null,1326,1102,1079,1018,928,717]
[19,null,1471,1121,1098,1035,944,733]
[20,null,1702,1140,1116,1053,960,748]
[21,null,1883,1159,1136,1070,976,764]
[22,null,2123,1179,1155,1089,993,780]
[23,null,2461,1199,1174,1107,1008,797]
[24,null,2695,1219,1194,1125,1025,813]
[25,null,3185,1237,1212,1142,1043,830]
[26,null,3358,1257,1232,1161,1058,846]
[27,null,3780,1276,1251,1179,1075,863]
[28,null,4205,1300,1274,1200,1094,882]
[29,null,4626,1322,1296,1221,1113,903]
[30,null,5047,1346,1318,1242,1133,924]
[31,null,5068,1368,1341,1263,1153,944]
[32,null,5088,1392,1363,1285,1171,965]
[33,null,5656,1430,1401,1320,1204,994]
[34,null,6225,1468,1438,1355,1236,1024]
[35,null,6508,1506,1476,1391,1268,1053]
[36,null,6554,1544,1513,1426,1300,1083]
[37,null,7376,1582,1551,1461,1333,1112]
[38,null,8198,1622,1589,1497,1366,1144]
[39,null,9021,1660,1627,1534,1398,1175]
[40,null,9842,1699,1665,1569,1430,1207]
[41,null,10752,1738,1703,1605,1463,1238]
[42,null,null,1777,1741,1641,1496,1271]
[43,null,null,1847,1811,1706,1556,1326]
[44,null,null,1918,1879,1771,1615,1383]
[45,null,null,1989,1949,1837,1674,1439]
[46,null,null,2059,2018,1901,1735,1494]
[47,null,null,2130,2088,1967,1794,1551]
[48,null,null,2205,2160,2037,1857,1608]
[49,null,null,2279,2233,2105,1920,1668]
[50,null,null,2354,2307,2174,1983,1725]
[51,null,null,2429,2381,2243,2046,1784]
[52,null,null,2504,2453,2312,2109,1842]
[53,null,null,2592,2541,2394,2182,1914]
[54,null,null,2681,2627,2476,2257,1985]
[55,null,null,2769,2714,2558,2332,2058]
[56,null,null,2858,2801,2639,2407,2128]
[57,null,null,2946,2887,2721,2480,2201]
[58,null,null,3049,2987,2807,2567,2294]
[59,null,null,3150,3087,2893,2652,2387]
[60,null,null,3252,3187,2978,2739,2480]
[61,null,null,3376,3308,3107,2843,2572]
[62,null,null,3528,3457,3259,2971,2689]
[63,null,null,3709,3635,3426,3124,2827]
[64,null,null,3923,3845,3624,3304,2990]
[65,null,null,4179,4095,3860,3519,3213]
[66,null,null,4481,4391,4139,3774,3470]
[67,null,null,4839,4741,4468,4074,3750]
[68,null,null,5250,5145,4848,4420,4067]
[69,null,null,5729,5613,5290,4824,4441]
[70,null,null,6284,6157,5754,5292,4942]
[71,null,null,6920,6781,6391,5826,5441]
[72,null,null,7656,7501,7071,6447,6024]
[73,null,null,8503,8331,7853,7160,6686]
[74,null,null,9480,9290,8755,7982,7457]
[75,null,null,10600,10386,9748,8925,8389]
[76,null,null,11887,11647,10969,10008,9407]
[77,null,null,13350,13081,12328,11241,10565]
[78,null,null,15000,14698,13853,12630,11870]
[79,null,null,16854,16514,15565,14190,13338]
[80,"o mas",null,19072,18687,17612,16059,15092]
[1,"Hijo",604,563,551,520,474,280]
[2,"Hijos",991,949,930,877,800,416]
[3,"Hijos o más",1452,1393,1364,1285,1173,597]
[1,"Rider Comp. Maternidad",225,225,225,225,225,225]
[1,"Transplante de organos",250,300,300,300,300,300]
[]
["TARIFAS SEMESTRALES "]
["EDAD"]
[" "," ","ET1","ET2","ET3","ET4","ET5","ET6"]
[18,null,{"$f":"+C778*$L$2","v":702.78000000000009},584.06000000000006,571.87,539.54000000000008,491.84000000000003,380.01]
[19,null,779.63,594.13,581.94000000000005,548.55000000000007,500.32000000000005,388.49]
[20,null,902.06000000000006,604.20000000000005,591.48,558.09,508.8,396.44]
[21,null,997.99,614.27,602.08000000000004,567.1,517.28,404.92]
[22,null,1125.19,624.87,612.15,577.17000000000007,526.29000000000008,413.40000000000003]
[23,null,1304.3300000000002,635.47,622.22,586.71,534.24,422.41]
[24,null,1428.3500000000001,646.07000000000005,632.82000000000005,596.25,543.25,430.89000000000004]
[25,null,1688.0500000000002,655.61,642.36,605.26,552.79000000000008,439.90000000000003]
[26,null,1779.74,666.21,652.96,615.33000000000004,560.74,448.38]
[27,null,2003.4,676.28000000000009,663.03000000000009,624.87,569.75,457.39000000000004]
[28,null,{"$f":"+C788*$L$2","v":2228.65},689,675.22,636,579.82000000000005,467.46000000000004]
[29,null,2451.7800000000002,700.66000000000008,686.88,647.13,589.89,478.59000000000003]
[30,null,2674.9100000000003,713.38,698.54000000000008,658.26,600.49,489.72]
[31,null,2686.04,725.04000000000008,710.73,669.39,611.09,500.32000000000005]
[32,null,2696.6400000000003,737.76,722.39,681.05000000000007,620.63,511.45000000000005]
[33,null,2997.6800000000003,757.90000000000009,742.53000000000009,699.6,638.12,526.82000000000005]
[34,null,3299.25,778.04000000000008,762.14,718.15000000000009,655.08000000000004,542.72]
[35,null,3449.2400000000002,798.18000000000006,782.28000000000009,737.23,672.04000000000008,558.09]
[36,null,3473.6200000000003,818.32,801.89,755.78000000000009,689,573.99]
[37,null,3909.28,838.46,822.03000000000009,774.33,706.49,589.36]
[38,null,{"$f":"+C798*$L$2","v":4344.9400000000005},859.66000000000008,842.17000000000007,793.41000000000008,723.98,606.32000000000005]
[39,null,4781.13,879.80000000000007,862.31000000000006,813.0200000000001,740.94,622.75]
[40,null,5216.26,900.47,882.45,831.57,757.90000000000009,639.71]
[41,null,5698.56,921.1400000000001,902.59,850.65000000000009,775.39,656.14]
[42,null,null,{"$f":"+D802*$L$2","v":941.81000000000006},922.73,869.73,792.88,673.63]
[43,null,null,{"$f":"+D803*$L$2","v":978.91000000000008},959.83,904.18000000000006,824.68000000000006,702.78000000000009]
[44,null,null,{"$f":"+D804*$L$2","v":1016.5400000000001},995.87,938.63,855.95,732.99]
[45,null,null,{"$f":"+D805*$L$2","v":1054.17},1032.97,973.61,887.22,762.67000000000007]
[46,null,null,{"$f":"+D806*$L$2","v":1091.27},1069.54,1007.5300000000001,919.55000000000007,791.82]
[47,null,null,{"$f":"+D807*$L$2","v":1128.9000000000001},1106.6400000000001,1042.51,950.82,822.03000000000009]
[48,null,null,{"$f":"+D808*$L$2","v":1168.6500000000001},1144.8,1079.6100000000001,984.21,852.24]
[49,null,null,{"$f":"+D809*$L$2","v":1207.8700000000001},1183.49,1115.6500000000001,1017.6,884.04000000000008]
[50,null,null,{"$f":"+D810*$L$2","v":1247.6200000000001},1222.71,1152.22,1050.99,914.25]
[51,null,null,{"$f":"+D811*$L$2","v":1287.3700000000001},1261.93,1188.79,1084.3800000000001,945.5200000000001]
[52,null,null,{"$f":"+D812*$L$2","v":1327.1200000000001},1300.0900000000001,1225.3600000000001,1117.77,976.2600000000001]
[53,null,null,{"$f":"+D813*$L$2","v":1373.76},1346.73,1268.8200000000002,1156.46,1014.4200000000001]
[54,null,null,{"$f":"+D814*$L$2","v":1420.93},1392.3100000000002,1312.28,1196.21,1052.05]
[55,null,null,{"$f":"+D815*$L$2","v":1467.5700000000002},1438.42,1355.74,1235.96,1090.74]
[56,null,null,{"$f":"+D816*$L$2","v":1514.74},1484.53,1398.67,1275.71,1127.8400000000001]
[57,null,null,{"$f":"+D817*$L$2","v":1561.38},1530.1100000000001,1442.13,1314.4,1166.53]
[58,null,null,{"$f":"+D818*$L$2","v":1615.97},1583.1100000000001,1487.71,1360.51,1215.8200000000002]
[59,null,null,{"$f":"+D819*$L$2","v":1669.5},1636.1100000000001,1533.29,1405.5600000000002,1265.1100000000001]
[60,null,null,{"$f":"+D820*$L$2","v":1723.5600000000002},1689.1100000000001,1578.3400000000001,1451.67,1314.4]
[61,null,null,{"$f":"+D821*$L$2","v":1789.2800000000002},1753.24,1646.71,1506.79,1363.16]
[62,null,null,{"$f":"+D822*$L$2","v":1869.8400000000001},1832.21,1727.27,1574.63,1425.17]
[63,null,null,{"$f":"+D823*$L$2","v":1965.7700000000002},1926.5500000000002,1815.7800000000002,1655.72,1498.3100000000002]
[64,null,null,{"$f":"+D824*$L$2","v":2079.19},2037.8500000000001,1920.72,1751.1200000000001,1584.7]
[65,null,null,{"$f":"+D825*$L$2","v":2214.87},2170.35,2045.8000000000002,1865.0700000000002,1702.89]
[66,null,null,{"$f":"+D826*$L$2","v":2374.9300000000003},2327.23,2193.67,2000.22,1839.1000000000001]
[67,null,null,{"$f":"+D827*$L$2","v":2564.67},2512.73,2368.04,2159.2200000000003,1987.5]
[68,null,null,{"$f":"+D828*$L$2","v":2782.5},2726.8500000000004,2569.44,2342.6,2155.5100000000002]
[69,null,null,{"$f":"+D829*$L$2","v":3036.3700000000003},2974.8900000000003,2803.7000000000003,2556.7200000000003,2353.73]
[70,null,null,{"$f":"+D830*$L$2","v":3330.52},3263.21,3049.6200000000003,2804.76,2619.2600000000002]
[71,null,null,{"$f":"+D831*$L$2","v":3667.6000000000004},3593.9300000000003,3387.23,3087.78,2883.73]
[72,null,null,{"$f":"+D832*$L$2","v":4057.6800000000003},3975.53,3747.63,3416.9100000000003,3192.7200000000003]
[73,null,null,{"$f":"+D833*$L$2","v":4506.59},4415.43,4162.09,3794.8,3543.5800000000004]
[74,null,null,{"$f":"+D834*$L$2","v":5024.4000000000005},4923.7,4640.1500000000005,4230.46,3952.21]
[75,null,null,{"$f":"+D835*$L$2","v":5618},5504.58,5166.4400000000005,4730.25,4446.17]
[76,null,null,{"$f":"+D836*$L$2","v":6300.1100000000006},6172.9100000000008,5813.5700000000006,5304.2400000000007,4985.71]
[77,null,null,{"$f":"+D837*$L$2","v":7075.5},6932.93,6533.84,5957.7300000000005,5599.4500000000007]
[78,null,null,{"$f":"+D838*$L$2","v":7950},7789.9400000000005,7342.09,6693.9000000000005,6291.1]
[79,null,null,{"$f":"+D839*$L$2","v":8932.6200000000008},8752.42,8249.4500000000007,7520.7000000000007,7069.14]
[80,"o mas",null,{"$f":"+D840*$L$2","v":10108.16},9904.11,9334.36,8511.27,7998.76]
[1,"Hijo",{"$f":"+C841*$L$2","v":320.12},298.39000000000004,292.03000000000003,275.60000000000002,251.22,148.4]
[2,"Hijos",{"$f":"+C842*$L$2","v":525.23},502.97,492.90000000000003,464.81,424,220.48000000000002]
[3,"Hijos o más",{"$f":"+C843*$L$2","v":769.56000000000006},738.29000000000008,722.92000000000007,681.05000000000007,621.69000000000005,316.41000000000003]
[1,"Rider Comp. Maternidad",{"$f":"+C844*$L$2","v":119.25},119.25,119.25,119.25,119.25,119.25]
[1,"Transplante de organos",{"$f":"+C845*$L$2","v":132.5},159,159,159,159,159]
[]
["BUPA COMPLETE GUATEMALA"]
["TARIFAS TRIMESTRALES"]
["EDAD"]
[" "," ","DW1","DW2","DW3","DW4","DW5","DW6"]
[18,"-  24",null,{"$f":"D6*$L$3","v":2031.15},{"$f":"E6*$L$3","v":1390.95},1001.825,709.77500000000009,542.57500000000005]
[25,"-  29",null,{"$f":"D7*$L$3","v":2127.9500000000003},1544.4,1113.2,779.07500000000005,598.40000000000009]
[30,"-  34",null,2225.8500000000004,1655.2250000000001,1238.6000000000001,946.55000000000007,724.07500000000005]
[35,"-  39",null,2490.4,1850.2,1390.95,1057.6500000000001,807.40000000000009]
[40,"-  44",null,2893.0000000000005,2031.15,1544.4,1168.75,890.45]
[45,"-  49",null,3227.4,2267.65,1724.8000000000002,1307.9000000000001,1001.825]
[50,"-  54",null,4214.6500000000005,2990.9,2267.65,1864.5000000000002,1433.575]
[55,"-  59",null,4492.6750000000002,3185.3250000000003,2420.2750000000001,1989.0750000000003,1516.3500000000001]
[60,null,null,4882.3500000000004,3463.9,2754.125,2365,1905.4750000000001]
[61,null,null,5243.7000000000007,3714.4250000000002,2949.1000000000004,2545.9500000000003,2045.1750000000002]
[62,null,null,5744.4750000000004,4062.0250000000005,3227.4,2781.625,2239.3250000000003]
[63,null,null,6106.3750000000009,4325.75,3436.1250000000005,2963.1250000000005,2378.4750000000004]
[64,null,null,6607.1500000000005,4673.9000000000005,3714.4250000000002,3199.6250000000005,2573.7250000000004]
[65,null,null,8638.3000000000011,6106.3750000000009,4701.6750000000002,4270.4750000000004,3630.2750000000001]
[66,null,null,10042.725,7094.1750000000002,5466.4500000000007,4966.2250000000004,4214.6500000000005]
[67,null,null,10960.95,7747.85,5966.9500000000007,5424.9250000000002,4604.3250000000007]
[68,null,null,12142.900000000001,8581.9250000000011,6607.1500000000005,6009.0250000000005,5105.1000000000004]
[69,null,null,13353.45,9430.85,7274.85,6607.1500000000005,5605.3250000000007]
[70,null,null,16440.875,11488.95,8554.1500000000015,7692.0250000000005,6593.1250000000009]
[71,null,null,17080.800000000003,11935.000000000002,8888.5500000000011,7998.3750000000009,6857.6750000000002]
[72,null,null,17567.550000000003,12282.050000000001,9138.8000000000011,8220.5750000000007,7052.3750000000009]
[73,null,null,18207.475000000002,12727.550000000001,9472.9250000000011,8526.375,7316.6500000000005]
[74,null,null,18541.600000000002,12950.025000000001,9653.6,8679.5500000000011,7441.7750000000005]
[75,"o más",null,19348.175000000003,13519.825000000001,10070.225,9055.2000000000007,7761.6]
[1,"Hijo",null,1126.6750000000002,514.80000000000007,403.97500000000002,348.15000000000003,250.52500000000003]
[2,"Hijos",null,1766.6000000000001,820.87500000000011,640.47500000000002,542.57500000000005,403.97500000000002]
[3,"Hijos o más",null,2573.7250000000004,1196.5250000000001,946.55000000000007,792.82500000000005,584.92500000000007]
[1,"Rider Comp. Maternidad",null,0,0,61.875000000000007,61.875000000000007,61.875000000000007]
[1,"Transplante de organos",null,0,0,0,0,0]
[]
["BUPA SECURE GUATEMALA"]
["TARIFAS TRIMESTRALES"]
["EDAD"]
[" "," ","CW1","CW2","CW3","CW4","CW5","CW6"]
[18,"-  24",null,{"$f":"D140*$L$3","v":976.52500000000009},{"$f":"E140*$L$3","v":764.50000000000011},584.65000000000009,509.85,381.97500000000002]
[25,"-  29",null,{"$f":"D141*$L$3","v":1072.5},859.92500000000007,658.07500000000005,562.92500000000007,424.87500000000006]
[30,"-  34",null,1231.7250000000001,1008.7,764.50000000000011,658.07500000000005,499.40000000000003]
[35,"-  39",null,1359.325,1136.0250000000001,849.75000000000011,732.6,551.65000000000009]
[40,"-  44",null,1518.0000000000002,1295.5250000000001,956.17500000000007,828.30000000000007,626.72500000000002]
[45,"-  49",null,1752.0250000000001,1518.0000000000002,1114.8500000000001,966.35,722.15000000000009]
[50,"-  54",null,1911.5250000000001,1667.0500000000002,1221.2750000000001,1051.325,796.40000000000009]
[55,"-  59",null,2250.6000000000004,1995.4,1444.0250000000001,1252.9000000000001,934.72500000000002]
[60,null,null,2357.0250000000001,2134,1529.0000000000002,1327.4250000000002,987.52500000000009]
[61,null,null,2654.3,2399.375,1730.8500000000001,1486.65,1114.8500000000001]
[62,null,null,2951.0250000000001,2664.75,1921.9750000000001,1656.6000000000001,1242.1750000000002]
[63,null,null,3238.4,2930.1250000000005,2112.8250000000003,1826.2750000000001,1369.5]
[64,null,null,3535.1250000000005,3205.9500000000003,2303.6750000000002,1995.4,1497.1000000000001]
[65,null,null,3545.8500000000004,3227.1250000000005,2325.125,2006.9500000000003,1497.1000000000001]
[66,null,null,3545.8500000000004,3259.3,2335.5750000000003,2017.1250000000002,1497.1000000000001]
[67,null,null,3938.2750000000001,3630.55,2590.5,2239.875,1667.0500000000002]
[68,null,null,4330.9750000000004,3991.3500000000004,2855.6000000000004,2463.1750000000002,1837.2750000000001]
[69,null,null,4532.8250000000007,4172.3,2983.4750000000004,2579.7750000000001,1921.9750000000001]
[70,null,null,4543.55,4236.1000000000004,3015.3750000000005,2600.6750000000002,1932.15]
[71,null,null,5106.75,4777.5750000000007,3397.0750000000003,2930.1250000000005,2176.9]
[72,null,null,5679.5750000000007,5308.3250000000007,3768.3250000000003,3248.5750000000003,2420.2750000000001]
[73,null,null,6253.2250000000004,5838.5250000000005,4151.125,3577.4750000000004,2664.75]
[74,null,null,6815.6,6369.55,4532.8250000000007,3906.3750000000005,2909.2250000000004]
[75,"o más",null,7431.3250000000007,6985.55,4957.4250000000002,4267.7250000000004,3174.6000000000004]
[1,"Hijo",null,466.95000000000005,276.375,233.75000000000003,201.85000000000002,149.05000000000001]
[2,"Hijos",null,796.40000000000009,414.70000000000005,371.8,318.72500000000002,233.75000000000003]
[3,"Hijos o más",null,1167.6500000000001,594.82500000000005,541.47500000000002,466.95000000000005,350.625]
[1,"Rider Comp. Maternidad",null,61.875000000000007,61.875000000000007,61.875000000000007,61.875000000000007,61.875000000000007]
[1,"Transplante de organos",null,0,0,0,0,0]
[]
["ESSENTIAL CARE GUATEMALA"]
["TARIFAS TRIMESTRALES"]
["EDAD"]
[" "," ","AW1","AW2","AW3","AW4","AW5","AW6"]
[18,null,{"$f":"+C274*$L$3","v":289.87200000000001},{"$f":"+D274*$L$3","v":278.78399999999999},258.39,183.15,138.006,97.02000000000001]
[19,null,{"$f":"+C275*$L$3","v":295.41600000000005},284.13000000000005,263.53800000000001,186.51600000000002,138.006,100.188]
[20,null,{"$f":"+C276*$L$3","v":300.56400000000002},289.27800000000002,268.09200000000004,189.88200000000003,141.768,100.188]
[21,null,{"$f":"+C277*$L$3","v":306.108},294.42599999999999,272.84399999999999,193.24800000000002,145.13400000000001,103.752]
[22,null,{"$f":"+C278*$L$3","v":311.85000000000002},299.77199999999999,277.99200000000002,197.01000000000002,148.5,103.752]
[23,null,{"$f":"+C279*$L$3","v":316.8},304.72199999999998,282.34800000000001,200.178,148.5,107.51400000000001]
[24,null,{"$f":"+C280*$L$3","v":328.08600000000001},315.61200000000002,292.44600000000003,207.30599999999998,151.86600000000001,110.48400000000001]
[25,null,{"$f":"+C281*$L$3","v":333.43200000000002},320.56200000000007,297.19800000000004,210.672,155.62800000000001,110.48400000000001]
[26,null,{"$f":"+C282*$L$3","v":338.77799999999996},325.90800000000002,302.14800000000002,214.03800000000001,158.79599999999999,114.24600000000001]
[27,null,{"$f":"+C283*$L$3","v":344.71800000000002},331.452,307.09800000000001,217.602,162.36000000000001,114.24600000000001]
[28,null,{"$f":"+C284*$L$3","v":349.47},336.20400000000001,311.65200000000004,220.77,165.92400000000001,117.414]
[29,null,{"$f":"+C285*$L$3","v":360.75600000000003},346.89600000000002,321.55200000000002,227.898,169.29000000000002,120.78]
[30,null,{"$f":"+C286*$L$3","v":371.84399999999999},357.58800000000002,331.452,234.828,172.85399999999998,124.54200000000002]
[31,null,{"$f":"+C287*$L$3","v":377.38800000000003},362.93400000000003,336.6,238.39200000000002,176.22,124.54200000000002]
[32,null,{"$f":"+C288*$L$3","v":388.27799999999996},373.428,346.10399999999998,245.322,179.58600000000001,127.51200000000001]
[33,null,{"$f":"+C289*$L$3","v":399.16800000000001},383.72399999999999,355.80599999999998,251.85599999999999,183.15,131.274]
[34,null,{"$f":"+C290*$L$3","v":410.25600000000003},394.41600000000005,365.70600000000002,258.786,189.88200000000003,134.83800000000002]
[35,null,{"$f":"+C291*$L$3","v":420.75000000000006},404.51400000000007,375.21,265.51800000000003,193.24800000000002,138.006]
[36,null,{"$f":"+C292*$L$3","v":432.036},415.404,385.11,272.64600000000002,200.178,141.768]
[37,null,{"$f":"+C293*$L$3","v":442.72800000000001},425.70000000000005,394.61400000000003,279.37799999999999,203.54400000000001,145.13400000000001]
[38,null,{"$f":"+C294*$L$3","v":459.55799999999999},441.93600000000004,409.66199999999998,290.07,210.672,148.5]
[39,null,{"$f":"+C295*$L$3","v":475.39800000000002},457.18200000000002,423.91800000000001,300.16800000000001,217.602,151.86600000000001]
[40,null,{"$f":"+C296*$L$3","v":486.68400000000003},467.87400000000002,434.01600000000002,307.09800000000001,220.77,155.62800000000001]
[41,null,{"$f":"+C297*$L$3","v":502.92},483.71400000000006,448.47,317.39400000000001,227.898,158.79599999999999]
[42,null,{"$f":"+C298*$L$3","v":519.15600000000006},499.15800000000002,462.726,327.69,234.828,162.36000000000001]
[43,null,{"$f":"+C299*$L$3","v":535.19399999999996},514.99800000000005,477.37799999999999,337.98599999999999,241.36199999999999,169.29000000000002]
[44,null,{"$f":"+C300*$L$3","v":557.17200000000003},535.98599999999999,496.58400000000006,351.84600000000006,248.68800000000002,172.85399999999998]
[45,null,{"$f":"+C301*$L$3","v":573.40800000000002},551.42999999999995,511.43400000000003,362.142,255.81600000000003,179.58600000000001]
[46,null,{"$f":"+C302*$L$3","v":590.04000000000008},567.46800000000007,526.08600000000001,372.43799999999999,262.15199999999999,183.15]
[47,null,{"$f":"+C303*$L$3","v":611.81999999999994},588.45600000000013,545.49,386.29800000000006,269.08200000000005,186.51600000000002]
[48,null,{"$f":"+C304*$L$3","v":639.14400000000001},614.79000000000008,569.84400000000005,403.524,279.37799999999999,193.24800000000002]
[49,null,{"$f":"+C305*$L$3","v":661.12200000000007},635.976,589.44600000000003,417.58200000000005,290.07,200.178]
[50,null,{"$f":"+C306*$L$3","v":688.24800000000005},662.11199999999997,613.80000000000007,434.61,300.16800000000001,203.54400000000001]
[51,null,{"$f":"+C307*$L$3","v":715.96800000000007},688.44600000000003,638.35199999999998,452.03400000000005,310.46400000000006,210.672]
[52,null,{"$f":"+C308*$L$3","v":737.55000000000007},709.2360000000001,657.55799999999999,465.69599999999997,320.76,217.602]
[53,null,{"$f":"+C309*$L$3","v":770.22},740.71800000000007,686.6640000000001,486.09000000000003,331.452,224.53200000000001]
[54,null,{"$f":"+C310*$L$3","v":803.28600000000006},772.39800000000002,716.16600000000005,507.07799999999997,344.71800000000002,227.898]
[55,null,{"$f":"+C311*$L$3","v":835.56000000000006},803.68200000000002,744.87599999999998,527.47199999999998,355.21200000000005,234.828]
[56,null,{"$f":"+C312*$L$3","v":868.82399999999996},835.36199999999997,774.57600000000002,548.46,369.072,241.36199999999999]
[57,null,{"$f":"+C313*$L$3","v":901.09800000000007},866.64600000000007,803.28600000000006,568.85400000000004,382.93200000000002,248.68800000000002]
[58,null,{"$f":"+C314*$L$3","v":950.59800000000007},914.16600000000005,847.44,600.13799999999992,396.79199999999997,255.81600000000003]
[59,null,{"$f":"+C315*$L$3","v":994.35599999999999},956.14199999999994,886.44600000000014,627.66000000000008,413.82,262.15199999999999]
[60,null,{"$f":"+C316*$L$3","v":1037.7180000000001},997.92,925.05600000000004,655.18200000000002,431.24399999999997,272.64600000000002]
[61,null,{"$f":"+C317*$L$3","v":1097.9100000000001},1055.934,978.91200000000003,693.19799999999998,452.03400000000005,279.37799999999999]
[62,null,{"$f":"+C318*$L$3","v":1179.8820000000001},1134.7380000000001,1051.7760000000001,744.67800000000011,483.12,293.04000000000002]
[63,null,{"$f":"+C319*$L$3","v":1294.92},1245.0240000000001,1154.1420000000001,817.34400000000005,527.47199999999998,307.09800000000001]
[64,null,{"$f":"+C320*$L$3","v":1452.924},1397.2860000000001,1295.316,917.13600000000008,589.8420000000001,327.69]
[65,null,{"$f":"+C321*$L$3","v":1655.0820000000001},1591.5240000000001,1475.4960000000001,1044.6480000000001,669.04200000000003,358.77600000000001]
[66,null,{"$f":"+C322*$L$3","v":1900.8000000000002},1827.9360000000001,1694.4840000000002,1199.682,762.10199999999998,396.79199999999997]
[67,null,{"$f":"+C323*$L$3","v":2184.9300000000003},2101.1759999999999,1947.7259999999999,1379.268,869.02200000000005,448.47]
[68,null,{"$f":"+C324*$L$3","v":2485.098},2389.86,2215.422,1568.5560000000003,986.04000000000008,503.51400000000007]
[69,null,{"$f":"+C325*$L$3","v":2801.502},2694.3840000000005,2497.5720000000001,1768.5360000000001,1110.1860000000001,565.68600000000004]
[70,null,{"$f":"+C326*$L$3","v":3140.0820000000003},3019.8959999999997,2799.5220000000004,1982.1780000000001,1248.1920000000002,631.22400000000005]
[71,null,{"$f":"+C327*$L$3","v":3495.2940000000003},3361.248,3115.9259999999999,2206.116,1392.732,700.12800000000004]
[72,null,{"$f":"+C328*$L$3","v":3866.5440000000003},3718.2420000000002,3446.982,2440.5480000000002,1547.7660000000001,772.39800000000002]
[73,null,{"$f":"+C329*$L$3","v":4259.7719999999999},4096.8180000000002,3797.6400000000003,2688.84,1713.2940000000001,848.43000000000006]
[74,null,{"$f":"+C330*$L$3","v":4669.2360000000008},4490.442,4162.5540000000001,2947.4280000000003,1889.316,924.06600000000003]
[75,null,{"$f":"+C331*$L$3","v":5095.134},4899.9060000000009,4542.3180000000002,3216.114,2075.4360000000001,1003.2660000000001]
[76,null,{"$f":"+C332*$L$3","v":5537.6639999999998},5325.6060000000007,4936.9320000000007,3495.4920000000002,2271.8519999999999,1086.03]
[77,null,{"$f":"+C333*$L$3","v":5996.0339999999997},5766.5520000000006,5345.6039999999994,3784.77,2478.5639999999999,1172.1600000000001]
[78,null,{"$f":"+C334*$L$3","v":6476.7780000000002},6228.6840000000002,5774.076,4088.1060000000002,2695.77,1258.4880000000001]
[79,null,{"$f":"+C335*$L$3","v":6973.56},6706.6560000000009,6217.0020000000004,4401.7380000000003,2919.7080000000001,1351.5480000000002]
[80,"o mas",{"$f":"+C336*$L$3","v":7487.1720000000005},7200.4680000000008,6674.7780000000002,4726.0620000000008,3157.7040000000002,1441.44]
[1,"Hijo",{"$f":"+C337*$L$3","v":125.73},120.97799999999999,112.26600000000001,79.397999999999996,66.33,52.271999999999998]
[2,"Hijos",{"$f":"+C338*$L$3","v":197.20800000000003},189.68400000000003,175.82400000000001,124.54200000000002,103.752,81.972000000000008]
[3,"Hijos o más",{"$f":"+C339*$L$3","v":284.32800000000003},273.43799999999999,253.44,179.58600000000001,149.68799999999999,118.00800000000001]
[1,"Rider Comp. Maternidad",{"$f":"+C340*$L$3","v":61.875000000000007},61.875000000000007,61.875000000000007,0,0,0]
[1,"Transplante de organos",{"$f":"+C341*$L$3","v":82.5},82.5,82.5,82.5,82.5,82.5]
[null,"Deductible Waiver",{"$f":"+C342*$L$3","v":0},49.500000000000007,94.875000000000014,213.12500000000003,365.75000000000006,572]
[null,null,{"$f":"+C343*$L$3","v":0},0,0,0,0,0]
["BUPA CLASSIC CARE GUATEMALA"]
["TARIFAS TRIMESTRALES"]
["EDAD"]
[" "," ","SE1","SE2","SE3","SE4","SE5","SE6"]
[18,null,null,{"$f":"D487*$L$3","v":749.63625000000002},{"$f":"E487*$L$3","v":580.86875000000009},379.61,278.63,195.88249999999999]
[19,null,null,{"$f":"D488*$L$3","v":764.59625000000005},588.34875,386.85625000000005,278.63,201.96]
[20,null,null,{"$f":"D489*$L$3","v":771.37500000000011},602.60749999999996,394.10250000000002,286.11,201.96]
[21,null,null,{"$f":"D490*$L$3","v":786.33500000000004},618.26875000000007,401.11500000000001,292.88875000000002,209.44000000000003]
[22,null,null,{"$f":"D491*$L$3","v":801.76250000000005},632.76125000000002,408.36125000000004,299.90125,209.44000000000003]
[23,null,null,{"$f":"D492*$L$3","v":808.5412500000001},639.30625000000009,414.90625000000006,299.90125,216.92000000000002]
[24,null,null,{"$f":"D493*$L$3","v":823.03375000000005},654.73374999999999,429.86624999999998,306.68000000000006,222.9975]
[25,null,null,{"$f":"D494*$L$3","v":837.99375000000009},668.99249999999995,436.64500000000004,314.15999999999997,222.9975]
[26,null,null,{"$f":"D495*$L$3","v":852.95375000000013},683.71875,443.89125000000001,320.47125,230.47750000000002]
[27,null,null,{"$f":"D496*$L$3","v":859.96625000000006},698.21124999999995,451.60500000000008,327.71750000000003,230.47750000000002]
[28,null,null,{"$f":"D497*$L$3","v":881.70500000000004},713.17124999999999,457.91624999999999,334.49624999999997,237.02250000000001]
[29,null,null,{"$f":"D498*$L$3","v":896.66500000000008},727.89750000000004,472.40875,341.27500000000003,243.5675]
[30,null,null,{"$f":"D499*$L$3","v":918.87125000000003},749.63625000000002,486.90125,348.75500000000005,251.28125000000003]
[31,null,null,{"$f":"D500*$L$3","v":933.13},764.59625000000005,494.38125000000002,356.00125000000003,251.28125000000003]
[32,null,null,{"$f":"D501*$L$3","v":955.33625000000006},786.33500000000004,508.64000000000004,362.31250000000006,257.35875000000004]
[33,null,null,{"$f":"D502*$L$3","v":977.54250000000002},808.5412500000001,522.66499999999996,369.55875000000003,265.30625000000003]
[34,null,null,{"$f":"D503*$L$3","v":999.74875000000009},831.21500000000003,537.15750000000003,383.35,272.08500000000004]
[35,null,null,{"$f":"D504*$L$3","v":1029.4350000000002},852.95375000000013,551.1825,390.12874999999997,278.63]
[36,null,null,{"$f":"D505*$L$3","v":1050.94},874.92624999999998,565.67500000000007,403.68625000000003,286.11]
[37,null,null,{"$f":"D506*$L$3","v":1072.9125000000001},896.66500000000008,579.93375000000003,410.9325,292.88875000000002]
[38,null,null,{"$f":"D507*$L$3","v":1102.365},926.11750000000006,601.90625,424.72375000000005,299.90125]
[39,null,null,{"$f":"D508*$L$3","v":1132.0512500000002},955.33625000000006,622.47624999999994,439.45000000000005,306.68000000000006]
[40,null,null,{"$f":"D509*$L$3","v":1168.5162499999999},977.54250000000002,637.43624999999997,445.52750000000003,314.15999999999997]
[41,null,null,{"$f":"D510*$L$3","v":1197.5012500000003},1007.4625000000001,658.70749999999998,459.78625000000005,320.47125]
[42,null,null,{"$f":"D511*$L$3","v":1227.4212499999999},1035.98,679.745,473.81125000000003,327.71750000000003]
[43,null,null,{"$f":"D512*$L$3","v":1264.35375},1072.9125000000001,701.25,487.60250000000002,341.27500000000003]
[44,null,null,{"$f":"D513*$L$3","v":1300.8187500000001},1102.365,729.76750000000004,501.86125000000004,348.75500000000005]
[45,null,null,{"$f":"D514*$L$3","v":1337.2837500000001},1139.0637500000003,751.03874999999994,516.12,362.31250000000006]
[46,null,null,{"$f":"D515*$L$3","v":1374.45},1175.9962499999999,772.77750000000003,529.67750000000001,369.55875000000003]
[47,null,null,{"$f":"D516*$L$3","v":1410.915},1205.44875,801.52875000000006,543.46875,376.57125000000002]
[48,null,null,{"$f":"D517*$L$3","v":1469.5862500000001},1256.6399999999999,837.05875000000003,564.27250000000004,390.12874999999997]
[49,null,null,{"$f":"D518*$L$3","v":1521.01125},1300.8187500000001,866.04375000000005,585.77750000000003,403.68625000000003]
[50,null,null,{"$f":"D519*$L$3","v":1572.67},1344.9974999999999,901.8075,605.88,410.9325]
[51,null,null,{"$f":"D520*$L$3","v":1623.8612500000002},1395.7212500000001,937.80500000000006,626.91750000000002,424.72375000000005]
[52,null,null,{"$f":"D521*$L$3","v":1675.2862500000001},1440.13375,966.08875,647.72125000000005,439.45000000000005]
[53,null,null,{"$f":"D522*$L$3","v":1741.6712500000001},1498.8050000000001,1008.865,668.75875000000008,453.00750000000005]
[54,null,null,{"$f":"D523*$L$3","v":1807.5887500000001},1558.1775,1052.1087500000001,695.87374999999997,459.78625000000005]
[55,null,null,{"$f":"D524*$L$3","v":1873.74},1617.0825000000002,1094.6512500000001,717.14499999999998,473.81125000000003]
[56,null,null,{"$f":"D525*$L$3","v":1939.6575000000003},1675.2862500000001,1137.6612500000001,744.96125000000006,487.60250000000002]
[57,null,null,{"$f":"D526*$L$3","v":2006.0425},1733.9575000000002,1180.4375,773.245,501.86125000000004]
[58,null,null,{"$f":"D527*$L$3","v":2094.1662500000002},1807.5887500000001,1244.9524999999999,800.82749999999999,516.12]
[59,null,null,{"$f":"D528*$L$3","v":2174.5762500000001},1880.5187500000002,1302.2212500000001,835.42250000000013,529.67750000000001]
[60,null,null,{"$f":"D529*$L$3","v":2263.4012499999999},1962.0975000000001,1359.2562500000001,870.48500000000013,550.48125000000005]
[61,null,null,{"$f":"D530*$L$3","v":2387.9900000000002},2064.48,1438.2637500000001,912.32624999999996,564.27250000000004]
[62,null,null,{"$f":"D531*$L$3","v":2549.51125},2211.0412500000002,1545.32125,975.20500000000004,591.85500000000002]
[63,null,null,{"$f":"D532*$L$3","v":2791.4425000000001},2417.67625,1695.85625,1064.9650000000001,620.37250000000006]
[64,null,null,{"$f":"D533*$L$3","v":3121.9650000000001},2704.02,1902.7250000000001,1190.4887500000002,661.51250000000005]
[65,null,null,{"$f":"D534*$L$3","v":3548.5587500000006},3071.4750000000004,2167.5637500000003,1350.37375,724.39125000000013]
[66,null,null,{"$f":"D535*$L$3","v":4070.0549999999998},3533.8325,2489.2037500000001,1538.3087499999999,800.82749999999999]
[67,null,null,{"$f":"D536*$L$3","v":4657.9362500000007},4054.6275000000005,2861.5675000000001,1754.29375,905.08]
[68,null,null,{"$f":"D537*$L$3","v":5289.0612500000007},4620.7700000000004,3254.7350000000001,1991.0825000000002,1016.5787500000001]
[69,null,null,{"$f":"D538*$L$3","v":5950.34},5216.1312500000004,3669.4075000000003,2240.9612500000003,1142.1025]
[70,null,null,{"$f":"D539*$L$3","v":6633.5912499999995},5824.8162499999999,4112.3637500000004,2520.0587500000001,1274.1712499999999]
[71,null,null,{"$f":"D540*$L$3","v":7338.8150000000005},6463.8887500000001,4577.5262499999999,2811.5450000000001,1413.2525000000001]
[72,null,null,{"$f":"D541*$L$3","v":8065.0762500000001},7110.6750000000002,5063.96,3124.3025000000002,1559.3462500000001]
[73,null,null,{"$f":"D542*$L$3","v":8807.2325000000001},7778.9662500000004,5578.911250000001,3458.7987499999999,1712.4525000000001]
[74,null,null,{"$f":"D543*$L$3","v":9556.401249999999},8462.4512500000001,6115.13375,3813.8650000000002,1865.325]
[75,null,null,{"$f":"D544*$L$3","v":10327.30875},9152.4812500000007,6672.8612500000008,4189.7350000000006,2025.6775]
[76,null,null,{"$f":"D545*$L$3","v":11106.397500000001},9857.2375000000011,7252.5612500000007,4586.4087499999996,2192.3412499999999]
[77,null,null,{"$f":"D546*$L$3","v":11899.2775},10569.7075,7852.8312500000002,5003.6525000000001,2366.0174999999999]
[78,null,null,{"$f":"D547*$L$3","v":12699.87125},11297.137500000001,8482.5537500000009,5441.9337500000001,2540.8625000000002]
[79,null,null,{"$f":"D548*$L$3","v":13508.4125},12024.33375,9133.08,5894.473750000001,2728.33]
[80,"o mas",null,{"$f":"D549*$L$3","v":14323.031250000002},12766.49,9805.5787500000006,6374.5962500000005,2909.7200000000003]
[1,"Hijo",null,{"$f":"D550*$L$3","v":382.41500000000002},221.12750000000003,164.79375000000002,118.74500000000002,84.15]
[2,"Hijos",null,{"$f":"D551*$L$3","v":639.30625000000009},331.69124999999997,258.29375000000005,182.09125,125.99125000000001]
[3,"Hijos o más",null,{"$f":"D552*$L$3","v":940.84375000000011},478.01875000000001,372.36375000000004,265.30625000000003,188.40250000000003]
[1,"Rider Comp. Maternidad",null,{"$f":"D553*$L$3","v":61.875000000000007},{"$f":"E553*$L$3","v":61.875000000000007},61.875000000000007,61.875000000000007,61.875000000000007]
[1,"Transplante de organos",null,{"$f":"D554*$L$3","v":82.5},82.5,82.5,82.5,82.5]
[null,"Deductible Waiver",null,{"$f":"D555*$L$3","v":49.500000000000007},94.875000000000014,213.12500000000003,365.75000000000006,572]